BEGIN:VCALENDAR
VERSION:2.0
PRODID:-//ChamberMaster//Event Calendar 2.0//EN
METHOD:PUBLISH
X-PUBLISHED-TTL:P3D
REFRESH-INTERVAL:P3D
CALSCALE:GREGORIAN
BEGIN:VEVENT
DTSTART:20200713T183000Z
DTEND:20200724T193000Z
X-MICROSOFT-CDO-ALLDAYEVENT:FALSE
SUMMARY:Join the Girls Inc. of Orange County Sisterhood: She-roes Virtual Summer Program!
DESCRIPTION:"She-roes" are female leaders who create positive change in the world. If your daughter dreams of being a girl boss\, she'll love the She-roes Virtual Summer Program from Girls Inc. of Orange County! Hosted for girls in grades 3 through 6\, this unique online camp will focus on the concepts of positive leadership\, character development and\, most importantly\, fun! Beginning on Monday\, July 13\, the program will be held via hour-long (Monday through Thursday) sessions on a learning management system platform called Canvas. During this time\, participants will engage with their peers and facilitators\, learn about real life She-roes\, and take part in a number of hands-on activities. By the end of the program\, girls will know how they are capable of being strong and effective leaders in their communities. Additionally\, they'll be aware of what superpowers (character traits) they can embrace to become She-roes themselves! This year's registration fee is only $25! For more information about the program and to reserve a spot for your daughter today\, please visit https://www.girlsinc-oc.org/programs/girls-inc-she-roes/.
X-ALT-DESC;FMTTYPE=text/html:&ldquo\;She-roes&rdquo\; are female leaders who create positive change in the world. If your daughter dreams of being a girl boss\, she&rsquo\;ll love the She-roes Virtual Summer Program from Girls Inc. of Orange County! Hosted for girls in grades 3 through 6\, this unique online camp will focus on the concepts of positive leadership\, character development and\, most importantly\, fun! Beginning on Monday\, July 13\, the program will be held via hour-long (Monday through Thursday) sessions on a learning management system platform called Canvas. During this time\, participants will engage with their peers and facilitators\, learn about real life She-roes\, and take part in a number of hands-on activities. By the end of the program\, girls will know how they are capable of being strong and effective leaders in their communities. Additionally\, they&rsquo\;ll be aware of what superpowers (character traits) they can embrace to become She-roes themselves! This year&rsquo\;s registration fee is only $25! For more information about the program and to reserve a spot for your daughter today\, please visit https://www.girlsinc-oc.org/programs/girls-inc-she-roes/.
LOCATION:
UID:e.2866.12554
SEQUENCE:3
DTSTAMP:20260422T140433Z
URL:https://www.costamesachamber.com/events/details/join-the-girls-inc-of-orange-county-sisterhood-she-roes-virtual-summer-program-12554
END:VEVENT

END:VCALENDAR
