BEGIN:VCALENDAR
VERSION:2.0
PRODID:-//ChamberMaster//Event Calendar 2.0//EN
METHOD:PUBLISH
X-PUBLISHED-TTL:P3D
REFRESH-INTERVAL:P3D
CALSCALE:GREGORIAN
BEGIN:VEVENT
DTSTART:20191026T163000Z
DTEND:20191026T190000Z
X-MICROSOFT-CDO-ALLDAYEVENT:FALSE
SUMMARY:Let the Halloween festivities begin at SOCO + The OC Mix!
DESCRIPTION:You're in for a treat at SOCO + The OC Mix! On Saturday\, October 26 from 9:30 a.m.   12:00 p.m.\, kiddos in costume and their families are invited to The OC Mix for a fang-tastic Alison Bernier Photography photo session. Alison will be set up near the walkway between Milk & Honey Baby and Gear Co Op where your little goblins will take boo-tiful Halloween photos in front of the most adorable Halloween backdrop designed by Beijos Events. Not only do the children love it\, but this is also a great way to document your little ones in this year's costume and makes for a fun + festive family outing. Additionally\, families are also invited to stop by Milk & Honey baby to create some spook-tacular arts & crafts that make for the perfect Halloween decorations that you'll be able to take home and cherish for years to come. Sessions are free and digital versions of the photos will be available for purchase online one week after the event at https://www.alisonbernier.com/. One digital image is $30\, two are $50\, and three images are $65. No RSVP is required\, simply show up with a smile and say cheese!
X-ALT-DESC;FMTTYPE=text/html:You&rsquo\;re in for a treat at SOCO + The OC Mix! On Saturday\, October 26 from 9:30 a.m. &ndash\; 12:00 p.m.\, kiddos in costume and their families are invited to The OC Mix for a fang-tastic Alison Bernier Photography photo session. Alison will be set up near the walkway between Milk &amp\; Honey Baby and Gear Co Op where your little goblins will take boo-tiful Halloween photos in front of the most adorable Halloween backdrop designed by Beijos Events. Not only do the children love it\, but this is also a great way to document your little ones in this year&rsquo\;s costume and makes for a fun + festive family outing. Additionally\, families are also invited to stop by Milk &amp\; Honey baby to create some spook-tacular arts &amp\; crafts that make for the perfect Halloween decorations that you&rsquo\;ll be able to take home and cherish for years to come. Sessions are free and digital versions of the photos will be available for purchase online one week after the event at https://www.alisonbernier.com/. One digital image is $30\, two are $50\, and three images are $65. No RSVP is required\, simply show up with a smile and say cheese!
LOCATION:SOCO + The OC Mix (near the walkway between Milk & Honey Baby and Gear Co Op) 3313 Hyland Avenue Costa Mesa\, CA 92626
UID:e.2866.11814
SEQUENCE:3
DTSTAMP:20260423T081145Z
URL:https://www.costamesachamber.com/events/details/let-the-halloween-festivities-begin-at-soco-the-oc-mix-11814
END:VEVENT

END:VCALENDAR
