BEGIN:VCALENDAR
VERSION:2.0
PRODID:-//ChamberMaster//Event Calendar 2.0//EN
METHOD:PUBLISH
X-PUBLISHED-TTL:P3D
REFRESH-INTERVAL:P3D
CALSCALE:GREGORIAN
BEGIN:VEVENT
DTSTART:20261031T010000Z
DTEND:20261031T030000Z
X-MICROSOFT-CDO-ALLDAYEVENT:FALSE
SUMMARY:Live Music Fridays
DESCRIPTION:House & Hops Fridays at Deli Nerds\n\nKick off the weekend with sliders\, craft beer\, and live DJ sets at Deli Nerds in Costa Mesa. Every Friday night from 6 8PM\, enjoy rotating DJs and live sets that bring the energy of OC nightlife to our cozy patio. Pair our signature sliders with ice-cold beer specials and soak in a true community vibe   part restaurant\, part local music lounge.\n\n?? Live DJ sets & curated playlists\n\n?? Beer specials\n\n?? Grass-fed sliders & scratch-made eats\n\n?? Outdoor patio atmosphere in the heart of Costa Mesa\n\nHouse & Hops isn't just dinner   it's where food and music meet. Perfect for post-work hangs\, date nights\, or getting the crew together to start the weekend right.
X-ALT-DESC;FMTTYPE=text/html:<p><strong>House &amp\; Hops Fridays at Deli Nerds</strong><br />\nKick off the weekend with sliders\, craft beer\, and live DJ sets at <strong>Deli Nerds in Costa Mesa</strong>. Every Friday night from <strong>6&ndash\;8PM</strong>\, enjoy rotating DJs and live sets that bring the energy of OC nightlife to our cozy patio. Pair our signature sliders with ice-cold beer specials and soak in a true community vibe &mdash\; part restaurant\, part local music lounge.</p>\n\n<p>?? <strong>Live DJ sets &amp\; curated playlists</strong><br />\n?? <strong>Beer specials</strong><br />\n?? <strong>Grass-fed sliders &amp\; scratch-made eats</strong><br />\n?? <strong>Outdoor patio atmosphere in the heart of Costa Mesa</strong></p>\n\n<p><strong>House &amp\; Hops</strong> isn&rsquo\;t just dinner &mdash\; it&rsquo\;s where food and music meet. Perfect for post-work hangs\, date nights\, or getting the crew together to start the weekend right.</p>\n
LOCATION:1525 Mesa Verde Dr E #117 Costa Mesa CA 92626
UID:e.2866.15834
SEQUENCE:3
DTSTAMP:20260420T043825Z
URL:https://www.costamesachamber.com/events/details/live-music-fridays-10-30-2026-15834
END:VEVENT

END:VCALENDAR
