BEGIN:VCALENDAR
VERSION:2.0
PRODID:-//ChamberMaster//Event Calendar 2.0//EN
METHOD:PUBLISH
X-PUBLISHED-TTL:P3D
REFRESH-INTERVAL:P3D
CALSCALE:GREGORIAN
BEGIN:VEVENT
DTSTART:20190907T170000Z
DTEND:20190907T210000Z
X-MICROSOFT-CDO-ALLDAYEVENT:FALSE
SUMMARY:Lollipop Dental Pediatric Dentistry and Orthodontics Grand Opening Event!!!
DESCRIPTION:Lollipop Dental Pediatric Dentistry and Orthodontics invites everyone to our Grand Opening Event Saturday\, September 7th from 10am-2pm.  Come meet or board certified Pediatric Dentists and Orthodontists and staff!!!  Tour our state of the art office!  Learn more about he about the services we provide and how we can help assist you and your family for your dental needs!  Please come join us for FOOD\, GAMES\, PRIZES\, RAFFLES\, GIVEAWAYS and FUN for the whole family!!!
X-ALT-DESC;FMTTYPE=text/html:Lollipop Dental Pediatric Dentistry and Orthodontics invites everyone to our Grand Opening Event Saturday\, September 7th from 10am-2pm.&nbsp\; Come meet or board certified Pediatric Dentists and Orthodontists and staff!!!&nbsp\; Tour our state of the art office!&nbsp\; Learn more about he about the services we provide and how we can help assist you and your family for your dental needs!&nbsp\; Please come join us for FOOD\, GAMES\, PRIZES\, RAFFLES\, GIVEAWAYS and FUN for the whole family!!!&nbsp\;&nbsp\;
LOCATION:Lollipop Pediatric Dentistry and Orthodontics 2750 Harbor Blvd Ste B6 Costa Mesa\, CA 92626 At the corner of Harbor and Adams\, next door to Coco's Bakery and Legends Boardshop.
UID:e.2866.11064
SEQUENCE:3
DTSTAMP:20260423T083601Z
URL:https://www.costamesachamber.com/events/details/lollipop-dental-pediatric-dentistry-and-orthodontics-grand-opening-event-11064
END:VEVENT

END:VCALENDAR
