BEGIN:VCALENDAR
VERSION:2.0
PRODID:-//ChamberMaster//Event Calendar 2.0//EN
METHOD:PUBLISH
X-PUBLISHED-TTL:P3D
REFRESH-INTERVAL:P3D
CALSCALE:GREGORIAN
BEGIN:VEVENT
DTSTART:20170610T010000Z
DTEND:20170610T060000Z
X-MICROSOFT-CDO-ALLDAYEVENT:FALSE
SUMMARY:Mayor's Charity Ball Celebrating the Art of Leadership
DESCRIPTION:Mayor's Charity Ball Celebrating Outstanding Community Members\n\nHosted Cocktail Reception\, Dinner and Dancing\n\nBlack Tie Optional
X-ALT-DESC;FMTTYPE=text/html:Mayor&#39\;s Charity Ball Celebrating Outstanding Community Members<br />\nHosted Cocktail Reception\, Dinner and Dancing<br />\nBlack Tie Optional
LOCATION:The Westin South Coast Plaza
UID:e.2866.629
SEQUENCE:3
DTSTAMP:20260425T020242Z
URL:https://www.costamesachamber.com/events/details/mayor-s-charity-ball-celebrating-the-art-of-leadership-629
END:VEVENT

END:VCALENDAR
