BEGIN:VCALENDAR
VERSION:2.0
PRODID:-//ChamberMaster//Event Calendar 2.0//EN
METHOD:PUBLISH
X-PUBLISHED-TTL:P3D
REFRESH-INTERVAL:P3D
CALSCALE:GREGORIAN
BEGIN:VEVENT
DTSTART;VALUE=DATE:20251120
DTEND;VALUE=DATE:20251208
TRANSP:TRANSPARENT
X-MICROSOFT-CDO-ALLDAYEVENT:TRUE
SUMMARY:Miss Bennet: Christmas at Pemberley
DESCRIPTION:Directed by Preston Butler III\n\n \n\nAN UPLIFTING HOLIDAY ROMANCE WITH JANE AUSTEN'S CHARACTERS \n\nBy Lauren Gunderson and Margot Melcon\n\nThis play imagines what the witty and vibrant Bennet sisters' world might be like two years after the end of Pride and Prejudice\, the timeless Jane Austen classic. We get to revisit many of our favorite characters including Lizzy\, Mr. Darcy\, Jane\, Mr. Bingley\, and Lydia and finally get to know more about Mary Bennet\, the middle sister who has been written off as a spinster who will never be married. Lizzy and Mr. Darcy have decided to host Christmas at their estate\, Pemberley\, this year\, and Lizzy's sisters show up a few days early to prepare for the holiday. An unexpected guest sparks Mary's hopes for independence\, an intellectual match\, and possibly even love. Multiple generations can enjoy this story together.
X-ALT-DESC;FMTTYPE=text/html:Directed by Preston Butler III<br />\n&nbsp\;<br />\n<span style="font-family:calibri\,sans-serif"><span style="font-size:11.0pt">AN UPLIFTING HOLIDAY ROMANCE WITH JANE AUSTEN&rsquo\;S CHARACTERS </span></span><br />\n<span style="font-family:calibri\,sans-serif"><span style="font-size:11.0pt">By Lauren Gunderson and Margot Melcon</span></span><br />\n<span style="font-family:calibri\,sans-serif"><span style="font-size:11.0pt">This play imagines what the witty and vibrant Bennet sisters&rsquo\; world might be like two years after the end of Pride and Prejudice\, the timeless Jane Austen classic. We get to revisit many of our favorite characters including Lizzy\, Mr. Darcy\, Jane\, Mr. Bingley\, and Lydia and finally get to know more about Mary Bennet\, the middle sister who has been written off as a spinster who will never be married. Lizzy and Mr. Darcy have decided to host Christmas at their estate\, Pemberley\, this year\, and Lizzy&rsquo\;s sisters show up a few days early to prepare for the holiday. An unexpected guest sparks Mary&rsquo\;s hopes for independence\, an intellectual match\, and possibly even love. Multiple generations can enjoy this story together.</span></span>
LOCATION:Lyceum Theater 55 Fair Dr\, Costa Mesa\, CA 92626
UID:e.2866.15974
SEQUENCE:3
DTSTAMP:20260425T185952Z
URL:https://www.costamesachamber.com/events/details/miss-bennet-christmas-at-pemberley-15974
END:VEVENT

END:VCALENDAR
