BEGIN:VCALENDAR
VERSION:2.0
PRODID:-//ChamberMaster//Event Calendar 2.0//EN
METHOD:PUBLISH
X-PUBLISHED-TTL:P3D
REFRESH-INTERVAL:P3D
CALSCALE:GREGORIAN
BEGIN:VEVENT
DTSTART:20180403T150000Z
DTEND:20180403T170000Z
X-MICROSOFT-CDO-ALLDAYEVENT:FALSE
SUMMARY:OCC-CMCC Joint Breakfast Learning Series
DESCRIPTION:April 3rd - 3 of 3 in series: Excel Tips and Tricks\n\nTuesday\, April 3\, 8:00 am - 10:00 am\n\nOrange Coast College Ronnenberg Center 101\n\n$25.00 includes learning event\, networking and breakfast. \n\n$20.00 preregister online and save $5.00. www.orangecoastcollege.edu/chamber or call 714/432-5880\, press 1 for more information\n\nLearn shortcuts and tips to save time and effort\, and create better spreadsheets. Jackie Strobel is a master trainer and teaches Microsoft Office classes at OCC .
X-ALT-DESC;FMTTYPE=text/html:April 3rd - 3 of 3 in series: Excel Tips and Tricks<br />\nTuesday\, April 3\, 8:00 am - 10:00 am<br />\nOrange Coast College Ronnenberg Center 101<br />\n$25.00 includes learning event\, networking and breakfast.&nbsp\;<br />\n$20.00 preregister online and save $5.00. www.orangecoastcollege.edu/chamber or call 714/432-5880\, press 1 for more information<br />\nLearn shortcuts and tips to save time and effort\, and create better spreadsheets. Jackie Strobel is a master trainer and teaches Microsoft Office classes at OCC .
LOCATION:
UID:e.2866.3377
SEQUENCE:3
DTSTAMP:20260424T092328Z
URL:https://www.costamesachamber.com/events/details/occ-cmcc-joint-breakfast-learning-series-3377
END:VEVENT

END:VCALENDAR
