BEGIN:VCALENDAR
VERSION:2.0
PRODID:-//ChamberMaster//Event Calendar 2.0//EN
METHOD:PUBLISH
X-PUBLISHED-TTL:P3D
REFRESH-INTERVAL:P3D
CALSCALE:GREGORIAN
BEGIN:VEVENT
DTSTART:20240927T010000Z
DTEND:20240927T030000Z
X-MICROSOFT-CDO-ALLDAYEVENT:FALSE
SUMMARY:One Voice: City-Wide Prayer and Worship Night
DESCRIPTION:Our annual ONE VOICE: City-Wide Prayer and Worship Night on September 26th\, 2024 at Rock Harbor Church. This event is all about unity\, creativity\, and coming together as a community. We kick things off at 6:00 PM with an Art Showcase\, featuring the talents of over 20 local artists from photographers and painters to graphic designers and woodworkers. At 6:30 PM\, we'll dive into a powerful night of worship and prayer\, led by a diverse team of worship leaders and pastors from different churches across Costa Mesa.
X-ALT-DESC;FMTTYPE=text/html:Our annual ONE VOICE: City-Wide Prayer and Worship Night on September 26th\, 2024 at Rock Harbor Church. This event is all about unity\, creativity\, and coming together as a community. We kick things off at 6:00 PM with an Art Showcase\, featuring the talents of over 20 local artists&mdash\;from photographers and painters to graphic designers and woodworkers. At 6:30 PM\, we&rsquo\;ll dive into a powerful night of worship and prayer\, led by a diverse team of worship leaders and pastors from different churches across Costa Mesa.
LOCATION:Rock Harbor 345 Fischer Ave Costa Mesa\, CA 92626
UID:e.2866.15119
SEQUENCE:3
DTSTAMP:20260421T040359Z
URL:https://www.costamesachamber.com/events/details/one-voice-city-wide-prayer-and-worship-night-15119
END:VEVENT

END:VCALENDAR
