BEGIN:VCALENDAR
VERSION:2.0
PRODID:-//ChamberMaster//Event Calendar 2.0//EN
METHOD:PUBLISH
X-PUBLISHED-TTL:P3D
REFRESH-INTERVAL:P3D
CALSCALE:GREGORIAN
BEGIN:VEVENT
DTSTART:20191106T180000Z
DTEND:20191106T184500Z
X-MICROSOFT-CDO-ALLDAYEVENT:FALSE
SUMMARY:Parent N Me Classes
DESCRIPTION:Dance 4 Joy Ministries offers FREE Parent N Me classes for all parents of 2-3.5 yr olds Mondays 9:30-10:15 and Wednesdays 10:00-10:45. This Christian Creative Movement Class highlights the JOY of the Gospel as children sing\, jump\, turn\, skip\, gallop\, and leap with scarves\, instruments\, props\, learn pre-ballet basics and even get to experience a little tap dancing too!! Shoes provided. Come join the fun as we dance with hearts filled with His Love!!! Register today at www.dance4joy.info. Class runs October - June.
X-ALT-DESC;FMTTYPE=text/html:Dance 4 Joy Ministries offers FREE Parent N Me classes for all parents of 2-3.5 yr olds Mondays 9:30-10:15 and Wednesdays 10:00-10:45. This Christian Creative Movement Class highlights the JOY of the Gospel as children sing\, jump\, turn\, skip\, gallop\, and leap with scarves\, instruments\, props\, learn pre-ballet basics and even get to experience a little tap dancing too!! Shoes provided. Come join the fun as we dance with hearts filled with His Love!!! Register today at www.dance4joy.info. Class runs October - June.
LOCATION:Dance 4 Joy 2675 Irvine Ave.\, Suite G Costa Mesa\, CA 92626
UID:e.2866.11659
SEQUENCE:3
DTSTAMP:20260423T032256Z
URL:https://www.costamesachamber.com/events/details/parent-n-me-classes-11-06-2019-11659
END:VEVENT

END:VCALENDAR
