BEGIN:VCALENDAR
VERSION:2.0
PRODID:-//ChamberMaster//Event Calendar 2.0//EN
METHOD:PUBLISH
X-PUBLISHED-TTL:P3D
REFRESH-INTERVAL:P3D
CALSCALE:GREGORIAN
BEGIN:VEVENT
DTSTART:20200318T020000Z
DTEND:20200318T033000Z
X-MICROSOFT-CDO-ALLDAYEVENT:FALSE
SUMMARY:Parenting Group
DESCRIPTION:Join us at Straight Talk Counseling for Parent guidance and inspiration. Our trained therapists will provide solutions to your parenting struggles.
X-ALT-DESC;FMTTYPE=text/html:Join us at Straight Talk Counseling for Parent guidance and inspiration. Our trained therapists will provide solutions to your parenting struggles.
LOCATION:Straight Talk Counseling 3785 S. Plaza Dr Santa Ana
UID:e.2866.12492
SEQUENCE:3
DTSTAMP:20260424T094730Z
URL:https://www.costamesachamber.com/events/details/parenting-group-12492
END:VEVENT

END:VCALENDAR
