BEGIN:VCALENDAR
VERSION:2.0
PRODID:-//ChamberMaster//Event Calendar 2.0//EN
METHOD:PUBLISH
X-PUBLISHED-TTL:P3D
REFRESH-INTERVAL:P3D
CALSCALE:GREGORIAN
BEGIN:VEVENT
DTSTART:20191012T010000Z
DTEND:20191012T040000Z
X-MICROSOFT-CDO-ALLDAYEVENT:FALSE
SUMMARY:Party at the Met
DESCRIPTION:Please join us at Save Our Youth' - SOY's  next fundraiser   the Party at the Met which will be held on Friday October 11 from 6pm   9pm at the Met\,  535 Anton Blvd\, Costa Mesa.\n\n\n\nTickets are for sale now for $100 and include a variety of food options\, open bar\, tequila and mezcal tasting\, opportunity drawing and live music by Undecided Future. Free parking at the venue. All proceeds benefit Save Our Youth\, a youth development organization in the Westside of Costa Mesa. \n\n \n\nIf you are interested in Sponsorship Opportunities please contact Carolyn Spivak at carolyn@save-our-youth.org for information. To purchase tickets please go to www.save-our-youth.org/MetParty2019\n\n \n\nWe hope you will join us for a fun\, casual night of community under the stars!
X-ALT-DESC;FMTTYPE=text/html:<div style="background:rgb(255\, 255\, 255)\; border:0px\; padding:0px">Please join us at Save Our Youth&#39\; - SOY&#39\;s&nbsp\; next fundraiser &ndash\; the Party at the Met which will be held on&nbsp\;<strong>Friday October 11 from 6pm &ndash\; 9pm at the Met\,&nbsp\; 535 Anton Blvd\, Costa Mesa</strong>.</div>\n\n<div style="background:rgb(255\, 255\, 255)\; border:0px\; padding:0px"><br />\n<span style="background-color:transparent">Tickets are for sale now for $100 and include a variety of food options\, open bar\, tequila and mezcal tasting\, opportunity drawing and live music by Undecided Future. Free parking at the venue. All proceeds benefit Save Our Youth\, a youth development organization in the Westside of Costa Mesa.&nbsp\;</span><br />\n&nbsp\;</div>\n\n<div style="background:rgb(255\, 255\, 255)\; border:0px\; padding:0px">If you are interested in Sponsorship Opportunities please contact Carolyn Spivak at&nbsp\;<a href="mailto:carolyn@save-our-youth.org" style="background: transparent\; margin: 0px\; padding: 0px\; border: 0px\; outline: 0px\; vertical-align: baseline\; color: rgb(94\, 136\, 161)\; text-decoration-line: none\;">carolyn@save-our-youth.org</a>&nbsp\;for information. To purchase tickets please go to www.save-our-youth.org/MetParty2019<br />\n&nbsp\;</div>\n\n<div style="background:rgb(255\, 255\, 255)\; border:0px\; padding:0px">We hope you will join us for a fun\, casual night of community under the stars!</div>\n
LOCATION:The Met\, 555 Anton Blvd\, Costa Mesa\, CA.
UID:e.2866.11311
SEQUENCE:3
DTSTAMP:20260423T050439Z
URL:https://www.costamesachamber.com/events/details/party-at-the-met-11311
END:VEVENT

END:VCALENDAR
