BEGIN:VCALENDAR
VERSION:2.0
PRODID:-//ChamberMaster//Event Calendar 2.0//EN
METHOD:PUBLISH
X-PUBLISHED-TTL:P3D
REFRESH-INTERVAL:P3D
CALSCALE:GREGORIAN
BEGIN:VEVENT
DTSTART:20191003T170000Z
DTEND:20191004T023000Z
X-MICROSOFT-CDO-ALLDAYEVENT:FALSE
SUMMARY:Paul Mitchell the School Costa Mesa: Cedric King
DESCRIPTION:U.S. Army Master Sgt. (Ret.) Cedric King joined the military in 1995. On a reconnaissance mission during his third deployment in Afghanistan in 2012\, the force of an improvised explosive device (IED) threw him off his feet. He sustained right hand disfigurement and became a bilateral amputee. Since his injury Cedric has earned numerous medals and awards\, run marathons\, climbed mountains\, and become an ambassador for the Gary Sinise Foundation. He plans to finish graduate school\, complete a full Ironman\, climb Mount Kilimanjaro\, launch a nonprofit organization that gives back to low-income communities\, and provide a home for his wife and daughters to begin again.
X-ALT-DESC;FMTTYPE=text/html:U.S. Army Master Sgt. (Ret.) Cedric King joined the military in 1995. On a reconnaissance mission during his third deployment in Afghanistan in 2012\, the force of an improvised explosive device (IED) threw him off his feet. He sustained right hand disfigurement and became a bilateral amputee. Since his injury Cedric has earned numerous medals and awards\, run marathons\, climbed mountains\, and become an ambassador for the Gary Sinise Foundation. He plans to finish graduate school\, complete a full Ironman\, climb Mount Kilimanjaro\, launch a nonprofit organization that gives back to low-income communities\, and provide a home for his wife and daughters to begin again.&nbsp\;
LOCATION:Paul Mitchell the School Costa Mesa 3309 Hyland Ave Suite J Costa Mesa\, CA 92626
UID:e.2866.11229
SEQUENCE:3
DTSTAMP:20260423T064240Z
URL:https://www.costamesachamber.com/events/details/paul-mitchell-the-school-costa-mesa-cedric-king-11229
END:VEVENT

END:VCALENDAR
