BEGIN:VCALENDAR
VERSION:2.0
PRODID:-//ChamberMaster//Event Calendar 2.0//EN
METHOD:PUBLISH
X-PUBLISHED-TTL:P3D
REFRESH-INTERVAL:P3D
CALSCALE:GREGORIAN
BEGIN:VEVENT
DTSTART:20240917T210000Z
DTEND:20240917T220000Z
X-MICROSOFT-CDO-ALLDAYEVENT:FALSE
SUMMARY:Revitalize Your Health: Acupuncture Solutions for Overcoming Chronic Illnesses in Seniors
DESCRIPTION:Join us for a FREE In Office Talk to discuss Acupuncture Solutions for Overcoming Chronic Illnesses in Seniors
X-ALT-DESC;FMTTYPE=text/html:Join us for a FREE In Office Talk to discuss Acupuncture Solutions for Overcoming Chronic Illnesses in Seniors
LOCATION:Bennett Acupuncture: 18046 Magnolia St.\, Fountain Valley\, CA 92708
UID:e.2866.15135
SEQUENCE:3
DTSTAMP:20260421T041358Z
URL:https://www.costamesachamber.com/events/details/revitalize-your-health-acupuncture-solutions-for-overcoming-chronic-illnesses-in-seniors-15135
END:VEVENT

END:VCALENDAR
