BEGIN:VCALENDAR
VERSION:2.0
PRODID:-//ChamberMaster//Event Calendar 2.0//EN
METHOD:PUBLISH
X-PUBLISHED-TTL:P3D
REFRESH-INTERVAL:P3D
CALSCALE:GREGORIAN
BEGIN:VEVENT
DTSTART:20260501T170000Z
DTEND:20260501T190000Z
X-MICROSOFT-CDO-ALLDAYEVENT:FALSE
SUMMARY:SBDC EATS: In Collaboration with the City of Costa Mesa
DESCRIPTION:Looking to launch a food business in the City of Costa Mesa? Join this six-week series that teaches you the ins and outs of starting one.\n\n\n\nAre you interested in starting your own food business? Brought to you in collaboration with the OCIE SBDC and the City of Costa Mesa\, SBDC Eats is a program that helps you learn what it takes to do so! Through this program\, you will be guided through the necessary steps to plan\, build\, and launch your food business and products in the marketplace. SBDC EATS will be taught in a hybrid format (online and in person).\n\nDuring the program\, you will learn:\n\n\n\nGoing from Idea to Concept\n\n\n	Do you have what it takes?\n	Steps to starting your food business\n	Types of food businesses\n	Competition\n	Your niche\n	Market research\n\n\nSetting up Your Business\n\n\n	What are the different business entities?\n	The pieces you need to set up your business\n	Licensing and permits\n\n\nHoning In on Your Offerings\n\n\n	Your offerings\n	Recipes\n	Inventory\n	Pricing and costing\n\n\nStarting to Sell\n\n\n	Cottage permits\n	Selling at events\n	Managers certification\n\n\nManaging Your Business\n\n\n	Accounting methods\n	Financial projections\n	Access to capital\n\n\nGetting the Word Out\n\n\n	Marketing your business\n	Establishing your online presence\n	Steps to stand out and shine in a crowded market\n	Measuring your success\n\n\nThis program culminates in a celebratory Graduation & Showcase Event\, where each participant will have the opportunity to feature their food products in a curated private market setting. This is a special moment to invite friends\, family\, and community supporters to experience your business firsthand. Graduates will be recognized\, celebrated\, and receive exclusive perks as they officially launch their food business into the marketplace.\n\nThrough this program\, you will be aligned with one of our food consultants for personalized assistance and to discuss how to move forward toward the launch of your business. You will be required to attend all sessions in order to participate in the graduation showcase event.\n\nProgram Schedule:\n\nSession 1: Friday\, May 1 I 10 a.m.   Noon (Zoom)\n\nSession 2: Friday\, May 8 I 10 a.m.   Noon (Zoom)\n\nSession 3: Friday\, May 15 I 10 a.m.   Noon (In Person)\n\n\n	The Hood Kitchen Space - 350 Clinton St Ste. A\, Costa Mesa\, CA 92626\n\n\nSession 4: Friday\, May 22 I 10 a.m.   Noon (Zoom)\n\nSession 5: Friday\, May 29 I 10 a.m.   Noon (Zoom)\n\nSession 6: Friday\, June 5 I *9:30 a.m.   Noon (In Person)\n\n*Participant arrival time is 8:15 a.m. Event starts at 9:30 a.m.\n\n\n	Norma Hertzog Community Center - 1845 Park Ave\, Costa Mesa\, CA 92627\n\n\n** Please note that attendance is MANDATORY at ALL sessions **
X-ALT-DESC;FMTTYPE=text/html:<span font-size:="" helvetica="" letter-spacing:="" neue="" style="color: rgb(88\, 81\, 99)\; font-family: ">Looking to launch a food business in the City of Costa Mesa? Join this six-week series that teaches you the ins and outs of starting one.<br />\n<br />\nAre you interested in starting your own food business? Brought to you in collaboration with the OCIE SBDC and the&nbsp\;</span><span font-size:="" helvetica="" letter-spacing:="" neue="" style="box-sizing: border-box\; padding: 0px\; margin: 0px\; font-weight: 600\; color: rgb(88\, 81\, 99)\; font-family: ">City of Costa Mesa</span><span font-size:="" helvetica="" letter-spacing:="" neue="" style="color: rgb(88\, 81\, 99)\; font-family: ">\, SBDC Eats is a program that helps you learn what it takes to do so! Through this program\, you will be guided through the necessary steps to plan\, build\, and launch your food business and products in the marketplace. SBDC EATS will be taught in a hybrid format (online and in person).</span>\n\n<p font-size:="" helvetica="" letter-spacing:="" neue="" style="box-sizing: border-box\; padding: 0px 0px 12px\; margin: 12px 0px 0px\; color: rgb(88\, 81\, 99)\; font-family: "><span style="box-sizing: border-box\; padding: 0px\; margin: 0px\; font-weight: 600\;">During the program\, you will learn:</span><br />\n<br />\nGoing from Idea to Concept</p>\n\n<ul font-size:="" helvetica="" letter-spacing:="" neue="" style="box-sizing: border-box\; padding: 0px 0px 0px 32px\; margin: 12px 0px 0px\; color: rgb(88\, 81\, 99)\; font-family: ">\n	<li style="box-sizing: border-box\; padding: 0px 0px 12px\; margin: 0px\;">Do you have what it takes?</li>\n	<li style="box-sizing: border-box\; padding: 0px 0px 12px\; margin: 4px 0px 0px\;">Steps to starting your food business</li>\n	<li style="box-sizing: border-box\; padding: 0px 0px 12px\; margin: 4px 0px 0px\;">Types of food businesses</li>\n	<li style="box-sizing: border-box\; padding: 0px 0px 12px\; margin: 4px 0px 0px\;">Competition</li>\n	<li style="box-sizing: border-box\; padding: 0px 0px 12px\; margin: 4px 0px 0px\;">Your niche</li>\n	<li style="box-sizing: border-box\; padding: 0px 0px 12px\; margin: 4px 0px 0px\;">Market research</li>\n</ul>\n\n<p font-size:="" helvetica="" letter-spacing:="" neue="" style="box-sizing: border-box\; padding: 0px 0px 12px\; margin: 12px 0px 0px\; color: rgb(88\, 81\, 99)\; font-family: ">Setting up Your Business</p>\n\n<ul font-size:="" helvetica="" letter-spacing:="" neue="" style="box-sizing: border-box\; padding: 0px 0px 0px 32px\; margin: 12px 0px 0px\; color: rgb(88\, 81\, 99)\; font-family: ">\n	<li style="box-sizing: border-box\; padding: 0px 0px 12px\; margin: 0px\;">What are the different business entities?</li>\n	<li style="box-sizing: border-box\; padding: 0px 0px 12px\; margin: 4px 0px 0px\;">The pieces you need to set up your business</li>\n	<li style="box-sizing: border-box\; padding: 0px 0px 12px\; margin: 4px 0px 0px\;">Licensing and permits</li>\n</ul>\n\n<p font-size:="" helvetica="" letter-spacing:="" neue="" style="box-sizing: border-box\; padding: 0px 0px 12px\; margin: 12px 0px 0px\; color: rgb(88\, 81\, 99)\; font-family: ">Honing In on Your Offerings</p>\n\n<ul font-size:="" helvetica="" letter-spacing:="" neue="" style="box-sizing: border-box\; padding: 0px 0px 0px 32px\; margin: 12px 0px 0px\; color: rgb(88\, 81\, 99)\; font-family: ">\n	<li style="box-sizing: border-box\; padding: 0px 0px 12px\; margin: 0px\;">Your offerings</li>\n	<li style="box-sizing: border-box\; padding: 0px 0px 12px\; margin: 4px 0px 0px\;">Recipes</li>\n	<li style="box-sizing: border-box\; padding: 0px 0px 12px\; margin: 4px 0px 0px\;">Inventory</li>\n	<li style="box-sizing: border-box\; padding: 0px 0px 12px\; margin: 4px 0px 0px\;">Pricing and costing</li>\n</ul>\n\n<p font-size:="" helvetica="" letter-spacing:="" neue="" style="box-sizing: border-box\; padding: 0px 0px 12px\; margin: 12px 0px 0px\; color: rgb(88\, 81\, 99)\; font-family: ">Starting to Sell</p>\n\n<ul font-size:="" helvetica="" letter-spacing:="" neue="" style="box-sizing: border-box\; padding: 0px 0px 0px 32px\; margin: 12px 0px 0px\; color: rgb(88\, 81\, 99)\; font-family: ">\n	<li style="box-sizing: border-box\; padding: 0px 0px 12px\; margin: 0px\;">Cottage permits</li>\n	<li style="box-sizing: border-box\; padding: 0px 0px 12px\; margin: 4px 0px 0px\;">Selling at events</li>\n	<li style="box-sizing: border-box\; padding: 0px 0px 12px\; margin: 4px 0px 0px\;">Managers certification</li>\n</ul>\n\n<p font-size:="" helvetica="" letter-spacing:="" neue="" style="box-sizing: border-box\; padding: 0px 0px 12px\; margin: 12px 0px 0px\; color: rgb(88\, 81\, 99)\; font-family: ">Managing Your Business</p>\n\n<ul font-size:="" helvetica="" letter-spacing:="" neue="" style="box-sizing: border-box\; padding: 0px 0px 0px 32px\; margin: 12px 0px 0px\; color: rgb(88\, 81\, 99)\; font-family: ">\n	<li style="box-sizing: border-box\; padding: 0px 0px 12px\; margin: 0px\;">Accounting methods</li>\n	<li style="box-sizing: border-box\; padding: 0px 0px 12px\; margin: 4px 0px 0px\;">Financial projections</li>\n	<li style="box-sizing: border-box\; padding: 0px 0px 12px\; margin: 4px 0px 0px\;">Access to capital</li>\n</ul>\n\n<p font-size:="" helvetica="" letter-spacing:="" neue="" style="box-sizing: border-box\; padding: 0px 0px 12px\; margin: 12px 0px 0px\; color: rgb(88\, 81\, 99)\; font-family: ">Getting the Word Out</p>\n\n<ul font-size:="" helvetica="" letter-spacing:="" neue="" style="box-sizing: border-box\; padding: 0px 0px 0px 32px\; margin: 12px 0px 0px\; color: rgb(88\, 81\, 99)\; font-family: ">\n	<li style="box-sizing: border-box\; padding: 0px 0px 12px\; margin: 0px\;">Marketing your business</li>\n	<li style="box-sizing: border-box\; padding: 0px 0px 12px\; margin: 4px 0px 0px\;">Establishing your online presence</li>\n	<li style="box-sizing: border-box\; padding: 0px 0px 12px\; margin: 4px 0px 0px\;">Steps to stand out and shine in a crowded market</li>\n	<li style="box-sizing: border-box\; padding: 0px 0px 12px\; margin: 4px 0px 0px\;">Measuring your success</li>\n</ul>\n\n<p font-size:="" helvetica="" letter-spacing:="" neue="" style="box-sizing: border-box\; padding: 0px 0px 12px\; margin: 12px 0px 0px\; color: rgb(88\, 81\, 99)\; font-family: "><span style="box-sizing: border-box\; padding: 0px\; margin: 0px\; font-weight: 600\;">This program culminates in a celebratory Graduation &amp\; Showcase Event\, where each participant will have the opportunity to feature their food products in a curated private market setting.</span>&nbsp\;This is a special moment to invite friends\, family\, and community supporters to experience your business firsthand. Graduates will be recognized\, celebrated\, and receive exclusive perks as they officially launch their food business into the marketplace.</p>\n\n<p font-size:="" helvetica="" letter-spacing:="" neue="" style="box-sizing: border-box\; padding: 0px 0px 12px\; margin: 12px 0px 0px\; color: rgb(88\, 81\, 99)\; font-family: ">Through this program\, you will be aligned with one of our food consultants for personalized assistance and to discuss how to move forward toward the launch of your business. You will be required to attend all sessions in order to participate in the graduation showcase event.</p>\n\n<h3 helvetica="" letter-spacing:="" neue="" style="box-sizing: border-box\; padding: 0px\; margin: 12px 0px 0px\; font-weight: 600\; font-size: 20px\; color: rgb(88\, 81\, 99)\; font-family: "><em style="box-sizing: border-box\; padding: 0px\; margin: 0px\;">Program Schedule:</em></h3>\n\n<p font-size:="" helvetica="" letter-spacing:="" neue="" style="box-sizing: border-box\; padding: 0px 0px 12px\; margin: 12px 0px 0px\; color: rgb(88\, 81\, 99)\; font-family: ">Session 1: Friday\,&nbsp\;<span style="box-sizing: border-box\; padding: 0px\; margin: 0px\; font-weight: 600\;">May 1&nbsp\;</span>I 10 a.m. &ndash\; Noon (Zoom)</p>\n\n<p font-size:="" helvetica="" letter-spacing:="" neue="" style="box-sizing: border-box\; padding: 0px 0px 12px\; margin: 12px 0px 0px\; color: rgb(88\, 81\, 99)\; font-family: ">Session 2: Friday\,&nbsp\;<span style="box-sizing: border-box\; padding: 0px\; margin: 0px\; font-weight: 600\;">May 8</span>&nbsp\;I 10 a.m. &ndash\; Noon (Zoom)</p>\n\n<p font-size:="" helvetica="" letter-spacing:="" neue="" style="box-sizing: border-box\; padding: 0px 0px 12px\; margin: 12px 0px 0px\; color: rgb(88\, 81\, 99)\; font-family: ">Session 3: Friday\,&nbsp\;<span style="box-sizing: border-box\; padding: 0px\; margin: 0px\; font-weight: 600\;">May 15&nbsp\;</span>I 10 a.m. &ndash\; Noon&nbsp\;<span style="box-sizing: border-box\; padding: 0px\; margin: 0px\; font-weight: 600\;">(In Person)</span></p>\n\n<ul font-size:="" helvetica="" letter-spacing:="" neue="" style="box-sizing: border-box\; padding: 0px 0px 0px 32px\; margin: 12px 0px 0px\; color: rgb(88\, 81\, 99)\; font-family: ">\n	<li style="box-sizing: border-box\; padding: 0px 0px 12px\; margin: 0px\;"><span style="box-sizing: border-box\; padding: 0px\; margin: 0px\; font-weight: 600\;">The Hood Kitchen Space -&nbsp\;</span><span style="box-sizing: border-box\; padding: 0px\; margin: 0px\; font-weight: 600\;">350 Clinton St Ste. A\, Costa Mesa\, CA 92626</span></li>\n</ul>\n\n<p font-size:="" helvetica="" letter-spacing:="" neue="" style="box-sizing: border-box\; padding: 0px 0px 12px\; margin: 12px 0px 0px\; color: rgb(88\, 81\, 99)\; font-family: ">Session 4: Friday\,&nbsp\;<span style="box-sizing: border-box\; padding: 0px\; margin: 0px\; font-weight: 600\;">May 22</span>&nbsp\;I 10 a.m. &ndash\; Noon (Zoom)</p>\n\n<p font-size:="" helvetica="" letter-spacing:="" neue="" style="box-sizing: border-box\; padding: 0px 0px 12px\; margin: 12px 0px 0px\; color: rgb(88\, 81\, 99)\; font-family: ">Session 5: Friday\,&nbsp\;<span style="box-sizing: border-box\; padding: 0px\; margin: 0px\; font-weight: 600\;">May 29</span>&nbsp\;I 10 a.m. &ndash\; Noon (Zoom)</p>\n\n<p font-size:="" helvetica="" letter-spacing:="" neue="" style="box-sizing: border-box\; padding: 0px 0px 12px\; margin: 12px 0px 0px\; color: rgb(88\, 81\, 99)\; font-family: ">Session 6: Friday\,&nbsp\;<span style="box-sizing: border-box\; padding: 0px\; margin: 0px\; font-weight: 600\;">June 5</span>&nbsp\;I *9:30 a.m. &ndash\; Noon&nbsp\;<span style="box-sizing: border-box\; padding: 0px\; margin: 0px\; font-weight: 600\;">(In Person)</span></p>\n\n<blockquote font-size:="" helvetica="" letter-spacing:="" neue="" style="box-sizing: border-box\; padding: 0px 0px 0px 16px\; margin: 12px 0px 0px\; color: rgb(88\, 81\, 99)\; font-family: "><span style="color:#FF0000\;"><strong><em style="box-sizing: border-box\; padding: 0px\; margin: 0px\;">*Participant arrival time is 8:15 a.m. Event starts at 9:30 a.m.</em></strong></span></blockquote>\n\n<ul font-size:="" helvetica="" letter-spacing:="" neue="" style="box-sizing: border-box\; padding: 0px 0px 0px 32px\; margin: 12px 0px 0px\; color: rgb(88\, 81\, 99)\; font-family: ">\n	<li style="box-sizing: border-box\; padding: 0px 0px 12px\; margin: 0px\;"><span style="box-sizing: border-box\; padding: 0px\; margin: 0px\; font-weight: 600\;">Norma Hertzog Community Center -&nbsp\;</span><span style="box-sizing: border-box\; padding: 0px\; margin: 0px\; font-weight: 600\;">1845 Park Ave\, Costa Mesa\, CA 92627</span></li>\n</ul>\n\n<p font-size:="" helvetica="" letter-spacing:="" neue="" style="box-sizing: border-box\; padding: 0px 0px 12px\; margin: 12px 0px 0px\; color: rgb(88\, 81\, 99)\; font-family: "><span style="box-sizing: border-box\; padding: 0px\; margin: 0px\; font-weight: 600\;">** Please note that attendance is MANDATORY at ALL sessions **</span></p>\n
LOCATION:May 1\, and May 8th sessions are via Zoom. May 15th\, in person at The Hood Kitchen Space\, 350 Clinton St. Ste. A Costa Mesa\, CA 92626
UID:e.2866.16175
SEQUENCE:3
DTSTAMP:20260422T235242Z
URL:https://www.costamesachamber.com/events/details/sbdc-eats-in-collaboration-with-the-city-of-costa-mesa-16175
END:VEVENT

END:VCALENDAR
