BEGIN:VCALENDAR
VERSION:2.0
PRODID:-//ChamberMaster//Event Calendar 2.0//EN
METHOD:PUBLISH
X-PUBLISHED-TTL:P3D
REFRESH-INTERVAL:P3D
CALSCALE:GREGORIAN
BEGIN:VEVENT
DTSTART:20260107T200000Z
DTEND:20260107T210000Z
X-MICROSOFT-CDO-ALLDAYEVENT:FALSE
SUMMARY:SDCCU Webinar: Understanding Your Spending and Financial Behaviors
DESCRIPTION:An informative session on consumer behavior and how to keep your finances on track. Have you ever wondered what forces influence your spending decisions? By understanding the reasons we spend money and how many of our financial decisions are made subconsciously\, we can become more aware and change our financial habits.
X-ALT-DESC;FMTTYPE=text/html:<span style="color:rgb(35\, 35\, 51)\; font-family:helvetica neue\,helvetica\,arial\,sans-serif\; font-size:14px">An informative session on consumer behavior and how to keep your finances on track. Have you ever wondered what forces influence your spending decisions? By understanding the reasons we spend money and how many of our financial decisions are made subconsciously\, we can become more aware and change our financial habits. </span>
LOCATION:Zoom webinar: https://sdccu.zoom.us/webinar/register/WN_C1h-cbaMQDmOinoMxz72Cw#/registration
UID:e.2866.16021
SEQUENCE:3
DTSTAMP:20260419T213610Z
URL:https://www.costamesachamber.com/events/details/sdccu-webinar-understanding-your-spending-and-financial-behaviors-16021
END:VEVENT

END:VCALENDAR
