BEGIN:VCALENDAR
VERSION:2.0
PRODID:-//ChamberMaster//Event Calendar 2.0//EN
METHOD:PUBLISH
X-PUBLISHED-TTL:P3D
REFRESH-INTERVAL:P3D
CALSCALE:GREGORIAN
BEGIN:VEVENT
DTSTART:20190920T153000Z
DTEND:20190920T190000Z
X-MICROSOFT-CDO-ALLDAYEVENT:FALSE
SUMMARY:Sewer Smarts: Tips for the Home & Wastewater Treatment Tour
DESCRIPTION:Sewer professionals will provide a lesson on the history of sewer systems\, along with some best practices for maintaining your home's sewer pipes. We'll then head over to the Orange County Sanitation District for a tour of their state-of-the-art wastewater treatment facility. Round-trip shuttle transportation will be provided from Costa Mesa Sanitary District Headquarters to the Orange County Sanitation District. Attendees must be at least 11 years of age to attend the tour and are required to wear closed-toed shoes.
X-ALT-DESC;FMTTYPE=text/html:<p style="text-align:justify"><span style="font-size:12px"><span style="font-family:arial\,helvetica\,sans-serif"><span style="color:rgb(0\, 0\, 0)">Sewer professionals will provide a lesson on the history of sewer systems\, along with some best practices for maintaining your home&#39\;s sewer pipes. We&#39\;ll then head over to the Orange County Sanitation District for a tour of their state-of-the-art wastewater treatment facility. Round-trip shuttle transportation will be provided from Costa Mesa Sanitary District Headquarters to the Orange County Sanitation District. Attendees must be at least 11 years of age to attend the tour and are required to wear closed-toed shoes.</span></span></span></p>\n
LOCATION:Costa Mesa Sanitary District Headquarters 290 Paularino Avenue Costa Mesa\, CA 92626 (Free round-trip shuttle transportation will be provided from this location to the Orange County Sanitation District's wastewater treatment facility in Fountain Valley)
UID:e.2866.11200
SEQUENCE:3
DTSTAMP:20260423T064542Z
URL:https://www.costamesachamber.com/events/details/sewer-smarts-tips-for-the-home-wastewater-treatment-tour-11200
END:VEVENT

END:VCALENDAR
