BEGIN:VCALENDAR
VERSION:2.0
PRODID:-//ChamberMaster//Event Calendar 2.0//EN
METHOD:PUBLISH
X-PUBLISHED-TTL:P3D
REFRESH-INTERVAL:P3D
CALSCALE:GREGORIAN
BEGIN:VEVENT
DTSTART:20201003T180000Z
DTEND:20201005T000000Z
X-MICROSOFT-CDO-ALLDAYEVENT:FALSE
SUMMARY:Shop SOCO’s Designer Tag Sale Oct 3 & 4!
DESCRIPTION:Don't miss this spectacular event (and seasonal launch) featuring your favorite SOCO home + interior design showrooms! On Saturday\, October 3 and Sunday\, October 4\, you'll find discounts on the best brands in home furnishings\, accessories and d cor during this Designer Tag Sale and Fall Collections Launch at OC's designation design center. We're all spending more time than ever at home\, so why not take advantage of huge savings while sprucing up your space? Get a jump start on the new season with soft lighting\, cozy bedding\, soft throws\, pillows\, and more. Or better yet\, take your organization game to the next level with stylish storage benches\, wall shelves\, trays\, woven baskets\, and various other d cor items! All weekend long\, guests can enjoy special offers from award-winning eateries and restaurants at SOCO + OC Mix\, shop exclusive discounts at participating boutiques and retailers\, and listen to live music entertainment in the outdoor dining garden. For a full list of participating showrooms\, restaurants & retail offers\, follow us on social media at @socoandtheocmix. Mark your calendars and we'll see you there!
X-ALT-DESC;FMTTYPE=text/html:Don&#39\;t miss this spectacular event (and seasonal launch) featuring your favorite SOCO home + interior design showrooms! On Saturday\, October 3 and Sunday\, October 4\, you&#39\;ll find discounts on the best brands in home furnishings\, accessories and d&eacute\;cor during this Designer Tag Sale and Fall Collections Launch at OC&rsquo\;s designation design center. We&rsquo\;re all spending more time than ever at home\, so why not take advantage of huge savings while sprucing up your space? Get a jump start on the new season with soft lighting\, cozy bedding\, soft throws\, pillows\, and more. Or better yet\, take your organization game to the next level with stylish storage benches\, wall shelves\, trays\, woven baskets\, and various other d&eacute\;cor items! All weekend long\, guests can enjoy special offers from award-winning eateries and restaurants at SOCO + OC Mix\, shop exclusive discounts at participating boutiques and retailers\, and listen to live music entertainment in the outdoor dining garden. For a full list of participating showrooms\, restaurants &amp\; retail offers\, follow us on social media at @socoandtheocmix. Mark your calendars and we&rsquo\;ll see you there!
LOCATION:SOCO + The OC Mix 3313 Hyland Ave\, Costa Mesa\, CA 92626
UID:e.2866.12562
SEQUENCE:3
DTSTAMP:20260425T174834Z
URL:https://www.costamesachamber.com/events/details/shop-soco-s-designer-tag-sale-oct-3-4-12562
END:VEVENT

END:VCALENDAR
