BEGIN:VCALENDAR
VERSION:2.0
PRODID:-//ChamberMaster//Event Calendar 2.0//EN
METHOD:PUBLISH
X-PUBLISHED-TTL:P3D
REFRESH-INTERVAL:P3D
CALSCALE:GREGORIAN
BEGIN:VEVENT
DTSTART:20191027T023000Z
DTEND:20191027T050000Z
X-MICROSOFT-CDO-ALLDAYEVENT:FALSE
SUMMARY:Sigh No More
DESCRIPTION:Spend an evening with some of the Bard's most famous couples from Romeo and Juliet to Beatrice and Benedick. Sigh No More is an original theatrical event that exposes and explodes the familiar relationships from Shakespeare's celebrated canon.
X-ALT-DESC;FMTTYPE=text/html:<span style="font-family:arial\,sans-serif"><span style="font-size:11.0pt">Spend an evening with some of the Bard&#39\;s most famous couples from Romeo and Juliet to Beatrice and Benedick. Sigh No More is an original theatrical event that exposes and explodes the familiar relationships from Shakespeare&#39\;s celebrated canon.</span></span>
LOCATION:All shows are presented at the Lyceum Theater located on the Vanguard University campus off Newport Boulevard. 55 Fair Dr\, Costa Mesa CA 92626
UID:e.2866.11671
SEQUENCE:3
DTSTAMP:20260423T064049Z
URL:https://www.costamesachamber.com/events/details/sigh-no-more-10-26-2019-11671
END:VEVENT

END:VCALENDAR
