BEGIN:VCALENDAR
VERSION:2.0
PRODID:-//ChamberMaster//Event Calendar 2.0//EN
METHOD:PUBLISH
X-PUBLISHED-TTL:P3D
REFRESH-INTERVAL:P3D
CALSCALE:GREGORIAN
BEGIN:VEVENT
DTSTART:20191005T170000Z
DTEND:20191005T230000Z
X-MICROSOFT-CDO-ALLDAYEVENT:FALSE
SUMMARY:SOCO’s Fall Day of Design (10/5)
DESCRIPTION:Save the date for SOCO's highly anticipated Fall Day of Design! On Saturday\, October 5 from 10:00 a.m. to 4:00 p.m.\, you're invited to attend Orange County's ultimate design event offering education\, expertise\, and exciting hands-on activations and demos that take a deep look into what's trending + what's ahead for design & home interiors. Guests will have the chance to be part of engaging talks\, insightful workshops and lively conversations including various local design professionals that cover topics such as stainability\, functionality\, and comfort while also being introduced to new fall collections\, products\, and the latest in interior trends. Design professionals and aficionados alike will have an opportunity to recharge midway through the event with a delicious sit-down luncheon taking place during an engaging live panel discussion where guests will hear from some of the OC's most prominent design experts. Perfect for anyone interested in design\, SOCO's Fall Day of Design 2019 will no doubt leave guests feeling inspired. Tickets to the event also includes a breakfast buffet and swag bags for attendees\, as well as light bites and sips at different showrooms throughout the day. To purchase tickets and reserve your spot\, please visit http://socodayofdesign.com/.
X-ALT-DESC;FMTTYPE=text/html:Save the date for SOCO&rsquo\;s highly anticipated Fall Day of Design! On Saturday\, October 5 from 10:00 a.m. to 4:00 p.m.\, you&rsquo\;re invited to attend Orange County&rsquo\;s ultimate design event offering education\, expertise\, and exciting hands-on activations and demos that take a deep look into what&rsquo\;s trending + what&rsquo\;s ahead for design &amp\; home interiors. Guests will have the chance to be part of engaging talks\, insightful workshops and lively conversations including various local design professionals that cover topics such as stainability\, functionality\, and comfort while also being introduced to new fall collections\, products\, and the latest in interior trends. Design professionals and aficionados alike will have an opportunity to recharge midway through the event with a delicious sit-down luncheon taking place during an engaging live panel discussion where guests will hear from some of the OC&rsquo\;s most prominent design experts. Perfect for anyone interested in design\, SOCO&rsquo\;s Fall Day of Design 2019 will no doubt leave guests feeling inspired. Tickets to the event also includes a breakfast buffet and swag bags for attendees\, as well as light bites and sips at different showrooms throughout the day. To purchase tickets and reserve your spot\, please visit http://socodayofdesign.com/.
LOCATION:SOCO + The OC Mix 3315 Hyland Ave Costa Mesa\, CA 92626
UID:e.2866.11197
SEQUENCE:3
DTSTAMP:20260423T050706Z
URL:https://www.costamesachamber.com/events/details/soco-s-fall-day-of-design-10-5-11197
END:VEVENT

END:VCALENDAR
