BEGIN:VCALENDAR
VERSION:2.0
PRODID:-//ChamberMaster//Event Calendar 2.0//EN
METHOD:PUBLISH
X-PUBLISHED-TTL:P3D
REFRESH-INTERVAL:P3D
CALSCALE:GREGORIAN
BEGIN:VEVENT
DTSTART:20220828T000000Z
DTEND:20220828T020000Z
X-MICROSOFT-CDO-ALLDAYEVENT:FALSE
SUMMARY:SOCO + The OC Mix Presents: Design & Dine hosted by Ligne Roset/Scavolini
DESCRIPTION:Join the design experts at the Ligne Roset/Scavolini showroom at SOCO for an evening of Italian-influenced interior design inspiration at Design & Dine! On Saturday\, August 27 from 5:00 p.m. to 7:00 p.m.\, the showroom will host guests for the ultimate Italian home design experience with a cocktail-style gathering featuring light appetizers and wine. First introduced in May 2019\, Design & Dine is a series of smaller\, intimate\, design + food-focused events held inside various showrooms throughout the SOCO in Costa Mesa. At the event\, guests will learn about the latest collections and trends from Italian design house Scavolini\, with a special focus on ultra-bespoke closet design. They also will get an exclusive look at new offerings from Tuscany-based antoniolupi\, famed for their luxurious and innovative bathroom furniture and accessories. Design & Dine is free to attend and guests are encouraged to register in advance by visiting https://www.eventbrite.com/e/soco-the-oc-mix-presents-design-dine-hosted-by-ligne-rosetscavolini-tickets-400388160767.
X-ALT-DESC;FMTTYPE=text/html:Join the design experts at the Ligne Roset/Scavolini showroom at SOCO for an evening of Italian-influenced interior design inspiration at Design &amp\; Dine! On Saturday\, August 27 from 5:00 p.m. to 7:00 p.m.\, the showroom will host guests for the ultimate Italian home design experience with a cocktail-style gathering featuring light appetizers and wine. First introduced in May 2019\, Design &amp\; Dine is a series of smaller\, intimate\, design + food-focused events held inside various showrooms throughout the SOCO in Costa Mesa. At the event\, guests will learn about the latest collections and trends from Italian design house Scavolini\, with a special focus on ultra-bespoke closet design. They also will get an exclusive look at new offerings from Tuscany-based antoniolupi\, famed for their luxurious and innovative bathroom furniture and accessories. Design &amp\; Dine is free to attend and guests are encouraged to register in advance by visiting https://www.eventbrite.com/e/soco-the-oc-mix-presents-design-dine-hosted-by-ligne-rosetscavolini-tickets-400388160767.
LOCATION:SOCO+ The OC Mix
UID:e.2866.13397
SEQUENCE:3
DTSTAMP:20260422T194943Z
URL:https://www.costamesachamber.com/events/details/soco-the-oc-mix-presents-design-dine-hosted-by-ligne-roset-scavolini-13397
END:VEVENT

END:VCALENDAR
