BEGIN:VCALENDAR
VERSION:2.0
PRODID:-//ChamberMaster//Event Calendar 2.0//EN
METHOD:PUBLISH
X-PUBLISHED-TTL:P3D
REFRESH-INTERVAL:P3D
CALSCALE:GREGORIAN
BEGIN:VEVENT
DTSTART:20191130T190000Z
DTEND:20191130T230000Z
X-MICROSOFT-CDO-ALLDAYEVENT:FALSE
SUMMARY:SOCO + The OC Mix Presents: Holidays by Design
DESCRIPTION:Calling all of Santa?s little helpers!  With the holiday season upon us\, SOCO + The OC Mix invites children and families to celebrate with the center?s annual Holidays by Design event series. Beginning Saturday\, November 30 and taking place every Saturday through December 21\, families are invited to enjoy a variety of festive activities and shopping that will be offered throughout the center\, including Holiday Storytime with Mrs. Claus\, a complimentary\, winter wonderland-themed photo booth for children and families\, live holiday music from local performers\, and more!  \n\nPHOTO BOOTH\nA pop-up photo booth will be located inside the OC Mix where guests can take beautiful holiday photos in front of a seasonal backdrop (complete with props that are perfect for this jolly time of year).  The photo booth will open at 11:00 a.m. each Saturday and close at 2:00 p.m.  \n\nSTORYTIME WITH MRS. CLAUS\nLittle ones will have an opportunity to join a very special Holiday Storytime session located inside the OC Mix at the entrance between Rich Elixirs and Temakira from 11:00 a.m. to 12:00 p.m. featuring Mrs. Claus herself!  Each week\, Mrs. Claus will read a different children?s storybook followed by an arts & crafts session where kids will create a special take-home memory that relates to the story.  While Holiday Storytime is free to attend\, guests must RSVP in advance online by clicking the link below:\nhttps://www.eventbrite.com/e/holiday-storytime-presented-by-the-chuck-jones-center-for-creativity-tickets-81640018493\n\nLIVE MUSIC\nPerformers inside the OC Mix will play live music from 12:00 p.m. to 3:00 p.m. which shoppers can enjoy while indulging in treats and holiday drinks while they cross off items from their shopping lists.   \n\nBelow is a full list of the different stories and music performers that will be featured each week:\n\nNovember 30 \nStorytime: ?Frosty the Snowman? ? snowman mask construction activity\nMusic: Zoopocket \n\nDecember 7 \nStorytime: ?The Gingerbread Man? ? gingerbread man ornament craft \nMusic: Zoopocket\n\nDecember 14 \nStorytime: ?Little Christmas Tree? ? Christmas tree ornament craft \nMusic: Michael Barnum\n\nDecember 21 \nStorytime: ?How The Grinch Stole Christmas? ? grinches heart ornament craft \nMusic: Zoopocket
X-ALT-DESC;FMTTYPE=text/html:Calling all of Santa?s little helpers!  With the holiday season upon us\, SOCO + The OC Mix invites children and families to celebrate with the center?s annual Holidays by Design event series. Beginning Saturday\, November 30 and taking place every Saturday through December 21\, families are invited to enjoy a variety of festive activities and shopping that will be offered throughout the center\, including Holiday Storytime with Mrs. Claus\, a complimentary\, winter wonderland-themed photo booth for children and families\, live holiday music from local performers\, and more!  \n\nPHOTO BOOTH\nA pop-up photo booth will be located inside the OC Mix where guests can take beautiful holiday photos in front of a seasonal backdrop (complete with props that are perfect for this jolly time of year).  The photo booth will open at 11:00 a.m. each Saturday and close at 2:00 p.m.  \n\nSTORYTIME WITH MRS. CLAUS\nLittle ones will have an opportunity to join a very special Holiday Storytime session located inside the OC Mix at the entrance between Rich Elixirs and Temakira from 11:00 a.m. to 12:00 p.m. featuring Mrs. Claus herself!  Each week\, Mrs. Claus will read a different children?s storybook followed by an arts &amp\; crafts session where kids will create a special take-home memory that relates to the story.  While Holiday Storytime is free to attend\, guests must RSVP in advance online by clicking the link below:\nhttps://www.eventbrite.com/e/holiday-storytime-presented-by-the-chuck-jones-center-for-creativity-tickets-81640018493\n\nLIVE MUSIC\nPerformers inside the OC Mix will play live music from 12:00 p.m. to 3:00 p.m. which shoppers can enjoy while indulging in treats and holiday drinks while they cross off items from their shopping lists.   \n\nBelow is a full list of the different stories and music performers that will be featured each week:\n\nNovember 30 \nStorytime: ?Frosty the Snowman? ? snowman mask construction activity\nMusic: Zoopocket \n\nDecember 7 \nStorytime: ?The Gingerbread Man? ? gingerbread man ornament craft \nMusic: Zoopocket\n\nDecember 14 \nStorytime: ?Little Christmas Tree? ? Christmas tree ornament craft \nMusic: Michael Barnum\n\nDecember 21 \nStorytime: ?How The Grinch Stole Christmas? ? grinches heart ornament craft \nMusic: Zoopocket\n
LOCATION:SOCO + The OC Mix 3313 Hyland Ave Costa Mesa\, CA 92626
UID:e.2866.12193
SEQUENCE:3
DTSTAMP:20260423T032501Z
URL:https://www.costamesachamber.com/events/details/soco-the-oc-mix-presents-holidays-by-design-12193
END:VEVENT

END:VCALENDAR
