BEGIN:VCALENDAR
VERSION:2.0
PRODID:-//ChamberMaster//Event Calendar 2.0//EN
METHOD:PUBLISH
X-PUBLISHED-TTL:P3D
REFRESH-INTERVAL:P3D
CALSCALE:GREGORIAN
BEGIN:VEVENT
DTSTART;VALUE=DATE:20200714
DTEND;VALUE=DATE:20200715
TRANSP:TRANSPARENT
X-MICROSOFT-CDO-ALLDAYEVENT:TRUE
SUMMARY:SOCO + The OC Mix Virtual Kids Club (July 14\, 2020)
DESCRIPTION:SOCO + The OC Mix's Kids Club is bringing the beach to you! Be "shore" to tune in Tuesday\, July 14 to watch Stephanie Holdridge dig into a reading of "The Sandcastle That Lola Built\," which transports listeners to a playful day at the beach where kiddos will learn the power of teamwork and cooperation. To read along at home\, purchase a copy of the book here: https://www.barnesandnoble.com/w/the-sandcastle-that-lola-built-megan-maynor/1127396567 After story time\, stick around to create a fun beach inspired craft! Check out the list of minimal materials needed below.   Ocean colored paints   Paint   Canvas or thick paper   (Wipes if available) Since we are unable to meet in person\, SOCO + The OC Mix's Kids Clubs events will be held online until further notice. All past and upcoming virtual events can be found on SOCO + The OC Mix's new blog here. To receive updates about future Kids Club events and new blog posts\, be sure to enter your email address online here. You can also follow us on Instagram at @socoandtheocmix.
X-ALT-DESC;FMTTYPE=text/html:SOCO + The OC Mix&rsquo\;s Kids Club is bringing the beach to you! Be &ldquo\;shore&rdquo\; to tune in Tuesday\, July 14 to watch Stephanie Holdridge dig into a reading of &ldquo\;The Sandcastle That Lola Built\,&rdquo\; which transports listeners to a playful day at the beach where kiddos will learn the power of teamwork and cooperation. To read along at home\, purchase a copy of the book here: https://www.barnesandnoble.com/w/the-sandcastle-that-lola-built-megan-maynor/1127396567 After story time\, stick around to create a fun beach inspired craft! Check out the list of minimal materials needed below. &bull\; Ocean colored paints &bull\; Paint &bull\; Canvas or thick paper &bull\; (Wipes if available) Since we are unable to meet in person\, SOCO + The OC Mix&rsquo\;s Kids Clubs events will be held online until further notice. All past and upcoming virtual events can be found on SOCO + The OC Mix&rsquo\;s new blog here. To receive updates about future Kids Club events and new blog posts\, be sure to enter your email address online here. You can also follow us on Instagram at @socoandtheocmix.
LOCATION:Online/Virtual
UID:e.2866.12553
SEQUENCE:3
DTSTAMP:20260422T135648Z
URL:https://www.costamesachamber.com/events/details/soco-the-oc-mix-virtual-kids-club-july-14-2020-12553
END:VEVENT

END:VCALENDAR
