BEGIN:VCALENDAR
VERSION:2.0
PRODID:-//ChamberMaster//Event Calendar 2.0//EN
METHOD:PUBLISH
X-PUBLISHED-TTL:P3D
REFRESH-INTERVAL:P3D
CALSCALE:GREGORIAN
BEGIN:VEVENT
DTSTART:20240904T010000Z
DTEND:20240904T020000Z
X-MICROSOFT-CDO-ALLDAYEVENT:FALSE
SUMMARY:Sofia University Fall Information Sessions - For Psychology\, Business\, and Computer Science programs!
DESCRIPTION:Just announced! This September\, Sofia University is hosting free\, easy-to-access events designed to help you take that next bold step in your education and career. \n\nYou'll gain clarity on your next steps\, get answers to your questions\, and walk away with insights that can shape your future. \n\n\n\nHere's our upcoming virtual events that you won't want to miss:\n\n\n\nSeptember 3rd - Psychology BA Completion Info Session\n\nTurn your love for psychology into an influential career. Discover how our BA completion program can fast-track your success.\n\n?? Reserve your spot and start your journey here!\n\n \n\nSeptember 5th - MA in Counseling Psychology Info Session\n\nIt's time to take the next step in making a difference. Our MA in Counseling Psychology equips you with the skills to impact lives truly.\n\n?? Register now and step into your future as a counselor.\n\n \n\nSeptember 12th - Life Coaching Certificate Info Session\n\nTransform your talent to guide others into a rewarding profession. Explore how our Life Coaching Certificate can help you inspire change.\n\n?? Sign up today and see how you can make a difference.\n\n \n\nSeptember 17th   MS in Computer Science Info Session\n\nReady to dive into the fast-paced world of tech? Our MS in Computer Science program prepares you to tackle the challenges of today and innovate for tomorrow.\n\n?? Secure your place and explore the future of tech with us.\n\n \n\nSeptember 19th - MBA Info Session\n\nLead with purpose and drive change in the business world. Our MBA program is designed to empower you to make a real difference.\n\n?? Join us and take the first step toward your MBA today.\n\n \n\n \n\nMark your calendars\, and don't miss out on these opportunities to advance your education and career. We can't wait to see you there!\n\n \n\nP.S. Spaces are limited\, so to avoid disappointment\, secure your spot now!
X-ALT-DESC;FMTTYPE=text/html:Just announced! This September\, Sofia University is hosting free\, easy-to-access events designed to help you take that next bold step in your education and career.&nbsp\;<br />\nYou&rsquo\;ll gain clarity on your next steps\, get answers to your questions\, and walk away with insights that can shape your future.&nbsp\;<br />\n<br />\nHere&#39\;s our upcoming virtual events that you won&#39\;t want to miss:<br />\n<br />\n<strong>September 3rd - Psychology BA Completion Info Session</strong><br />\nTurn your love for psychology into an influential career. Discover how our BA completion program can fast-track your success.<br />\n<a href="http://emails.sofia.edu/jc.aspx?d=CWGMW4UCGAAEL7ZFNNDCCPFCVRNN4QNNCSU2FOYA2EASVNEB6DVPJX43V3HJ267O3QPZAAYTNIIECCPEDSMFXNCBXKEE7UNCVUEAJGEKVRBUHFKABNGABAIEVAQGWP2JKOWBRJI5PXU5U62JK22OAQTWIITIFPNA7Q7RNJYA3HOGQBWKXGLLB45ZBBEJBVWTI6RZHUUOTUIZ5ISIZUPEZV5P5M45G4HNO5VRJX3FPSWOMKCMKO2YPBYR3YKAOJYX26JSOXFRUTPV6UPUN3KYMN6ZHDPIOC3GOYIG4ZASUPSM2CYU24H6OPHQLB72C3SSMIXGW2VVT5BXJSXCTTIZEUX76EOANW62DHP22NLWY6OBEUT4FW5YYV7WUHVAPB3A32CQINNX24YVVQHPD4%3D%3D%3D%3D%3D%3D" target="_blank"><span style="font-family:segoe ui emoji\,sans-serif">??</span> Reserve your spot and start your journey here!</a><br />\n&nbsp\;<br />\n<strong>September 5th - MA in Counseling Psychology Info Session</strong><br />\nIt&rsquo\;s time to take the next step in making a difference. Our MA in Counseling Psychology equips you with the skills to impact lives truly.<br />\n<a href="http://emails.sofia.edu/jc.aspx?d=CWGMXDUCGAAEL75FLOGA6KWWWINAKJBEEMJKVVVQVOS4UQ3JAEIWIMX7H2O5LONZ47TP4AAONRZWSITTAJ4AO3EM23ENF4NJLOCHKYGAL3GC24YFE5AAEG2AGAAUFM4RB5LKLU2GRBLHZNPSS2Z2SSB3FVNS3D42F7G7T72YT4BL7R7XDEMRGJZECYWBSK2YAA6XT4BSNIQY7PV7HNE43I5BCZSOB5CU37OOQPR2XYPXHNJFDPESKTCPZ52ZWXR4IXEHWP4S4KYSYMZWBNUKM6A3CLLUOYL5Z2H2LE3AG5KY4KJ7PTBS7I5BSJVV6PENPUOGCN6YURL5DB2ZF25SIE3YQZ34JY3HKT24KKX2WTCWDABVFXQX5SHHV54KPKTAPMRA3NMKMY2HRDGA54PQ%3D%3D%3D%3D" target="_blank"><span style="font-family:segoe ui emoji\,sans-serif">??</span>&nbsp\;Register now and step into your future as a counselor.</a><br />\n&nbsp\;<br />\n<strong>September 12th - Life Coaching Certificate Info Session</strong><br />\nTransform your talent to guide others into a rewarding profession. Explore how our Life Coaching Certificate can help you inspire change.<br />\n<a href="http://emails.sofia.edu/jc.aspx?d=CWGMS3UDGAAEJ76F44UDQBWHQFJSXGRCSIAIKQFB3TAHMDAK7OJILKH7L337IRXTI3ZQEFAYJBBQJLIATWA2DEY5YEZNNMRFXIGBSMBWCCR23OQCFUYIABSWQBFQ43MVGVWD24B66K33DPMU3GNLGWOKKHFFA4USQT7WG6IKW3HNIKEHJDALJBFOPOEY7OQLIUJBCDNS3A2UGL3QVFAL3X77ZTS6N3S5R62RPXPX73MAU5TVOCBB46IUY5ITRBDROB7BJKK2SSRNKGHL7TCVJKBTWOVF6PTWYJE6URPYDJK7HKN6PUW33XORRFOPSYLZF33DPHWZXEEPBHXK7DJNAGZVFW3B6UULQ55HKERNR3POC2ERXRJTRZOP7SZQXECWEUYVF3CMWWW6EBD674AA%3D%3D%3D%3D" target="_blank"><span style="font-family:segoe ui emoji\,sans-serif">??</span>&nbsp\;Sign up today and see how you can make a difference.</a><br />\n&nbsp\;<br />\n<strong>September 17th &ndash\; MS in Computer Science Info Session</strong><br />\nReady to dive into the fast-paced world of tech? Our MS in Computer Science program prepares you to tackle the challenges of today and innovate for tomorrow.<br />\n<a href="http://emails.sofia.edu/jc.aspx?d=CWGMC4UCGAAEJ7ZFK4OYLBAQ4XKAENIDMJNYLCT2BMIBDDEAIIVNB2N7G4633HL5HP5QGUTAIEBREOAFVECNNERMBBLPDJS2WJKICAKL24YDJUIU2TAAEGCMAFLXZVECKXM6ZQLZZNP5V6S4WAM47JESVWJJCYVHVD6Y7VJJ6DPRTCWK7M3IIE3JKDRF4ZBVUD2MFZJJX7T4S6UNXA7K5DRCI236WSA7STPOY3U4PPRBYNWGVKYJ6AJ5WIBY2B7PCUL2EM75FZZHI74TYZBS3XVQJWNUABFOFMFK6JNY5LHURC7WESPMIRLQ575R25B6J3KNZF42ZR2DOWK4T5PU3M62MLGGBEMO7HAO2MWDSJ7JXSPH7SYDXRGO2GXPYKXEBHORA365SOCLTXIYQDPT6%3D%3D%3D" target="_blank"><span style="font-family:segoe ui emoji\,sans-serif">??</span>&nbsp\;Secure your place and explore the future of tech with us.</a><br />\n&nbsp\;<br />\n<strong>September 19th - MBA Info Session</strong><br />\nLead with purpose and drive change in the business world. Our MBA program is designed to empower you to make a real difference.<br />\n<a href="http://emails.sofia.edu/jc.aspx?d=CWGMW4UCGAAEL7ZFLMOMXQYQYOVAKGI6KIIBAR6ZAFAQJUKYILINF2N7G5OZ2O7X3S4T7IACQ25FFEN2AAKQOBSGNMCELPEJCZQRCCTAFAZFI5LNAEUDBAAOC2QBMHDIL7OMS4VINNLL6M32N2FWKTNYSBGMRPPAFAUP7D6FFEEFB73SCX6QWOYYXMUJRKE4ERGZWNYONUWE27NE4FLOOWIQL7DXU5IIF7JFNK2OTMWCCPBXNG3TX56SU2NLNX4BIVTF5WQKELPDVACP45VH6DTQ7VYCJX7EYQ7KOZV65M2CSHQ2TCZ6TVO55XUAFHJEFVYBGW4IZJNPLZVHGPPSRIPDWXMRRFPTVE6EMH3NMTEQGLHHDOFWE5T25Z666EUN5B4DBGK3M234FRA6TMK7B6YH" target="_blank"><span style="font-family:segoe ui emoji\,sans-serif">??</span>&nbsp\;Join us and take the first step toward your MBA today.</a><br />\n&nbsp\;<br />\n&nbsp\;<br />\nMark your calendars\, and don&rsquo\;t miss out on these opportunities to advance your education and career. We can&rsquo\;t wait to see you there!<br />\n&nbsp\;<br />\n<strong>P.S.</strong>&nbsp\;Spaces are limited\, so to avoid disappointment\, secure your spot now!<br />\n&nbsp\;
LOCATION:
UID:e.2866.14307
SEQUENCE:3
DTSTAMP:20260421T035851Z
URL:https://www.costamesachamber.com/events/details/sofia-university-fall-information-sessions-for-psychology-business-and-computer-science-programs-14307
END:VEVENT

END:VCALENDAR
