BEGIN:VCALENDAR
VERSION:2.0
PRODID:-//ChamberMaster//Event Calendar 2.0//EN
METHOD:PUBLISH
X-PUBLISHED-TTL:P3D
REFRESH-INTERVAL:P3D
CALSCALE:GREGORIAN
BEGIN:VEVENT
DTSTART:20190925T003000Z
DTEND:20190925T023000Z
X-MICROSOFT-CDO-ALLDAYEVENT:FALSE
SUMMARY:Sukut Dental Open House Meet & Greet
DESCRIPTION:Don't forget to join us for Sukut Dental's Open House Meet & Greet from 5:30-7:20! There will be food\, open bar\, and lots of great door prizes like an at-home teeth whitening kit\, in-office whitening treatment\, Chic Flic lip enhancer and teeth whitening\, Sonicare toothbrush\, and charcoal toothpaste! #SukutDental #Sonicare #ChicFlic #OpenHouse#CostaMesa #OCDentist
X-ALT-DESC;FMTTYPE=text/html:<span style="color:rgb(28\, 30\, 33)\; font-family:system-ui\,-apple-system\,blinkmacsystemfont\,.sfnstext-regular\,sans-serif\; font-size:14px">Don&rsquo\;t forget to join us for Sukut Dental&#39\;s Open House Meet &amp\; Greet from 5:30-7:20! There will be food\, open bar\, and lots of great door prizes like an at-home teeth whitening kit\, in-office whitening treatment\, Chic Flic lip enhancer and teeth whitening\, Sonicare toothbrush\, and charcoal toothpaste!&nbsp\;</span><a class="_58cn" href="https://www.facebook.com/hashtag/sukutdental?source=feed_text&amp\;epa=HASHTAG&amp\;__xts__%5B0%5D=68.ARByA34foBwuG5sx7lNDPczqzC79WeD1H425arI40naRMJ0cboL-CJmX54-iWttz0f_lweS3veZv6I2H4rDq1uiZKIBkFWtZ2bHvoZMqUL7_m1ho2XUUs7O3RxuV6ev0Kfl7HhzePRVcJ_HW_rELFRF3j7Q5b4f5gSlEwNPM6a8nVibG3Joo63s3r54UXMHoAjod4k2a4XW7Xt4uA_AuXItHQ7Isq3ZwMZTbpsIDMquk2KZgaIMLpGSFWKn1bC9advx3gOVF5YPAnm2Ojb7wp5TO78EofyR6tFAavAcst8QCIPyHNTtlrIGnOygNDTX94Pjncwl4ABUexzB7dvcv&amp\;__tn__=%2ANK-R" style="color: rgb(56\, 88\, 152)\; cursor: pointer\; text-decoration: none\; font-family: system-ui\, -apple-system\, BlinkMacSystemFont\, &quot\;.SFNSText-Regular&quot\;\, sans-serif\; font-size: 14px\;"><span style="font-family:inherit"><span style="color:rgb(54\, 88\, 153)\; font-family:inherit">#</span><span style="font-family:inherit">SukutDental</span></span></a><span style="color:rgb(28\, 30\, 33)\; font-family:system-ui\,-apple-system\,blinkmacsystemfont\,.sfnstext-regular\,sans-serif\; font-size:14px">&nbsp\;</span><a class="_58cn" href="https://www.facebook.com/hashtag/sonicare?source=feed_text&amp\;epa=HASHTAG&amp\;__xts__%5B0%5D=68.ARByA34foBwuG5sx7lNDPczqzC79WeD1H425arI40naRMJ0cboL-CJmX54-iWttz0f_lweS3veZv6I2H4rDq1uiZKIBkFWtZ2bHvoZMqUL7_m1ho2XUUs7O3RxuV6ev0Kfl7HhzePRVcJ_HW_rELFRF3j7Q5b4f5gSlEwNPM6a8nVibG3Joo63s3r54UXMHoAjod4k2a4XW7Xt4uA_AuXItHQ7Isq3ZwMZTbpsIDMquk2KZgaIMLpGSFWKn1bC9advx3gOVF5YPAnm2Ojb7wp5TO78EofyR6tFAavAcst8QCIPyHNTtlrIGnOygNDTX94Pjncwl4ABUexzB7dvcv&amp\;__tn__=%2ANK-R" style="color: rgb(56\, 88\, 152)\; cursor: pointer\; text-decoration: none\; font-family: system-ui\, -apple-system\, BlinkMacSystemFont\, &quot\;.SFNSText-Regular&quot\;\, sans-serif\; font-size: 14px\;"><span style="font-family:inherit"><span style="color:rgb(54\, 88\, 153)\; font-family:inherit">#</span><span style="font-family:inherit">Sonicare</span></span></a><span style="color:rgb(28\, 30\, 33)\; font-family:system-ui\,-apple-system\,blinkmacsystemfont\,.sfnstext-regular\,sans-serif\; font-size:14px">&nbsp\;</span><a class="_58cn" href="https://www.facebook.com/hashtag/chicflic?source=feed_text&amp\;epa=HASHTAG&amp\;__xts__%5B0%5D=68.ARByA34foBwuG5sx7lNDPczqzC79WeD1H425arI40naRMJ0cboL-CJmX54-iWttz0f_lweS3veZv6I2H4rDq1uiZKIBkFWtZ2bHvoZMqUL7_m1ho2XUUs7O3RxuV6ev0Kfl7HhzePRVcJ_HW_rELFRF3j7Q5b4f5gSlEwNPM6a8nVibG3Joo63s3r54UXMHoAjod4k2a4XW7Xt4uA_AuXItHQ7Isq3ZwMZTbpsIDMquk2KZgaIMLpGSFWKn1bC9advx3gOVF5YPAnm2Ojb7wp5TO78EofyR6tFAavAcst8QCIPyHNTtlrIGnOygNDTX94Pjncwl4ABUexzB7dvcv&amp\;__tn__=%2ANK-R" style="color: rgb(56\, 88\, 152)\; cursor: pointer\; text-decoration: none\; font-family: system-ui\, -apple-system\, BlinkMacSystemFont\, &quot\;.SFNSText-Regular&quot\;\, sans-serif\; font-size: 14px\;"><span style="font-family:inherit"><span style="color:rgb(54\, 88\, 153)\; font-family:inherit">#</span><span style="font-family:inherit">ChicFlic</span></span></a><span style="color:rgb(28\, 30\, 33)\; font-family:system-ui\,-apple-system\,blinkmacsystemfont\,.sfnstext-regular\,sans-serif\; font-size:14px">&nbsp\;</span><a class="_58cn" href="https://www.facebook.com/hashtag/openhouse?source=feed_text&amp\;epa=HASHTAG&amp\;__xts__%5B0%5D=68.ARByA34foBwuG5sx7lNDPczqzC79WeD1H425arI40naRMJ0cboL-CJmX54-iWttz0f_lweS3veZv6I2H4rDq1uiZKIBkFWtZ2bHvoZMqUL7_m1ho2XUUs7O3RxuV6ev0Kfl7HhzePRVcJ_HW_rELFRF3j7Q5b4f5gSlEwNPM6a8nVibG3Joo63s3r54UXMHoAjod4k2a4XW7Xt4uA_AuXItHQ7Isq3ZwMZTbpsIDMquk2KZgaIMLpGSFWKn1bC9advx3gOVF5YPAnm2Ojb7wp5TO78EofyR6tFAavAcst8QCIPyHNTtlrIGnOygNDTX94Pjncwl4ABUexzB7dvcv&amp\;__tn__=%2ANK-R" style="color: rgb(56\, 88\, 152)\; cursor: pointer\; text-decoration: none\; font-family: system-ui\, -apple-system\, BlinkMacSystemFont\, &quot\;.SFNSText-Regular&quot\;\, sans-serif\; font-size: 14px\;"><span style="font-family:inherit"><span style="color:rgb(54\, 88\, 153)\; font-family:inherit">#</span><span style="font-family:inherit">OpenHouse</span></span></a><a class="_58cn" href="https://www.facebook.com/hashtag/costamesa?source=feed_text&amp\;epa=HASHTAG&amp\;__xts__%5B0%5D=68.ARByA34foBwuG5sx7lNDPczqzC79WeD1H425arI40naRMJ0cboL-CJmX54-iWttz0f_lweS3veZv6I2H4rDq1uiZKIBkFWtZ2bHvoZMqUL7_m1ho2XUUs7O3RxuV6ev0Kfl7HhzePRVcJ_HW_rELFRF3j7Q5b4f5gSlEwNPM6a8nVibG3Joo63s3r54UXMHoAjod4k2a4XW7Xt4uA_AuXItHQ7Isq3ZwMZTbpsIDMquk2KZgaIMLpGSFWKn1bC9advx3gOVF5YPAnm2Ojb7wp5TO78EofyR6tFAavAcst8QCIPyHNTtlrIGnOygNDTX94Pjncwl4ABUexzB7dvcv&amp\;__tn__=%2ANK-R" style="color: rgb(56\, 88\, 152)\; cursor: pointer\; text-decoration: none\; font-family: system-ui\, -apple-system\, BlinkMacSystemFont\, &quot\;.SFNSText-Regular&quot\;\, sans-serif\; font-size: 14px\;"><span style="font-family:inherit"><span style="color:rgb(54\, 88\, 153)\; font-family:inherit">#</span><span style="font-family:inherit">CostaMesa</span></span></a><span style="color:rgb(28\, 30\, 33)\; font-family:system-ui\,-apple-system\,blinkmacsystemfont\,.sfnstext-regular\,sans-serif\; font-size:14px">&nbsp\;</span><a class="_58cn" href="https://www.facebook.com/hashtag/ocdentist?source=feed_text&amp\;epa=HASHTAG&amp\;__xts__%5B0%5D=68.ARByA34foBwuG5sx7lNDPczqzC79WeD1H425arI40naRMJ0cboL-CJmX54-iWttz0f_lweS3veZv6I2H4rDq1uiZKIBkFWtZ2bHvoZMqUL7_m1ho2XUUs7O3RxuV6ev0Kfl7HhzePRVcJ_HW_rELFRF3j7Q5b4f5gSlEwNPM6a8nVibG3Joo63s3r54UXMHoAjod4k2a4XW7Xt4uA_AuXItHQ7Isq3ZwMZTbpsIDMquk2KZgaIMLpGSFWKn1bC9advx3gOVF5YPAnm2Ojb7wp5TO78EofyR6tFAavAcst8QCIPyHNTtlrIGnOygNDTX94Pjncwl4ABUexzB7dvcv&amp\;__tn__=%2ANK-R" style="color: rgb(56\, 88\, 152)\; cursor: pointer\; text-decoration: none\; font-family: system-ui\, -apple-system\, BlinkMacSystemFont\, &quot\;.SFNSText-Regular&quot\;\, sans-serif\; font-size: 14px\;"><span style="font-family:inherit"><span style="color:rgb(54\, 88\, 153)\; font-family:inherit">#</span><span style="font-family:inherit">OCDentist</span></span></a>
LOCATION:Sukut Dental\, 2900 Bristol Street\, Suite C-102\, Costa Mesa\, CA 92626
UID:e.2866.11637
SEQUENCE:3
DTSTAMP:20260423T065030Z
URL:https://www.costamesachamber.com/events/details/sukut-dental-open-house-meet-greet-11637
END:VEVENT

END:VCALENDAR
