BEGIN:VCALENDAR
VERSION:2.0
PRODID:-//ChamberMaster//Event Calendar 2.0//EN
METHOD:PUBLISH
X-PUBLISHED-TTL:P3D
REFRESH-INTERVAL:P3D
CALSCALE:GREGORIAN
BEGIN:VEVENT
DTSTART;VALUE=DATE:20200706
DTEND;VALUE=DATE:20200718
TRANSP:TRANSPARENT
X-MICROSOFT-CDO-ALLDAYEVENT:TRUE
SUMMARY:Support Women in STEM with Girls Inc. of Orange County: Virtual Eureka! Summer Program
DESCRIPTION:WANTED: strong\, smart\, bold teen girls ready to take on a summer filled with true crime and social media justice! Join Girls Inc. of Orange County online for its Eureka! Summer Program. Hosted for girls in grades 7 through 12\, this unique online learning opportunity will provide your daughter with an unforgettable summer experience while welcoming them to the close-knit community of Girls Inc. The camp will be held via two daily (Monday through Friday) sessions on an online learning platform called Canvas. During this time\, participants will be engaging with their peers and facilitators in a supportive and energetic environment while learning about crime investigation\, cyber security\, and the reliability of memory. By the end of their program experience\, participants will have been immersed in the realm of social media influence\, learned the power of their voices\, and created an advocacy-based social media campaign for themselves and their community. This year's registration fee is only $25! For more information about the program and to reserve a spot for your daughter today\, please visit https://www.girlsinc-oc.org/programs/eureka/.
X-ALT-DESC;FMTTYPE=text/html:WANTED: strong\, smart\, bold teen girls ready to take on a summer filled with true crime and social media justice! Join Girls Inc. of Orange County online for its Eureka! Summer Program. Hosted for girls in grades 7 through 12\, this unique online learning opportunity will provide your daughter with an unforgettable summer experience while welcoming them to the close-knit community of Girls Inc. The camp will be held via two daily (Monday through Friday) sessions on an online learning platform called Canvas. During this time\, participants will be engaging with their peers and facilitators in a supportive and energetic environment while learning about crime investigation\, cyber security\, and the reliability of memory. By the end of their program experience\, participants will have been immersed in the realm of social media influence\, learned the power of their voices\, and created an advocacy-based social media campaign for themselves and their community. This year&rsquo\;s registration fee is only $25! For more information about the program and to reserve a spot for your daughter today\, please visit https://www.girlsinc-oc.org/programs/eureka/.
LOCATION:Girls Inc. of Orange County (Online)
UID:e.2866.12552
SEQUENCE:3
DTSTAMP:20260422T135802Z
URL:https://www.costamesachamber.com/events/details/support-women-in-stem-with-girls-inc-of-orange-county-virtual-eureka-summer-program-12552
END:VEVENT

END:VCALENDAR
