BEGIN:VCALENDAR
VERSION:2.0
PRODID:-//ChamberMaster//Event Calendar 2.0//EN
METHOD:PUBLISH
X-PUBLISHED-TTL:P3D
REFRESH-INTERVAL:P3D
CALSCALE:GREGORIAN
BEGIN:VEVENT
DTSTART;VALUE=DATE:20191111
DTEND;VALUE=DATE:20200101
TRANSP:TRANSPARENT
X-MICROSOFT-CDO-ALLDAYEVENT:TRUE
SUMMARY:Tackle Box Gives Back to America’s Heroes this Season
DESCRIPTION:The holidays are right around the corner and Tackle Box has a tasty way for you to give back this season. Starting this Veteran's Day on Monday\, November 11 and running through Tuesday\, December 31\, the restaurant will donate 10% of each participating guest's bill directly to nonprofit organization Patriots and Paws with a customer mention of the fundraiser. Tackle Box is excited to come together to give back to the local community and its heroes and welcomes all to join. Stop by OC's favorite coastal pub any day of the week and be sure to mention this meaningful fundraiser to any Tackle Box employee to ensure your dining experience will help those in need. Patriots and Paws is a non-profit organization that provides veterans\, active military\, reservists and their families throughout Southern California basic home furnishings for newly acquired residence. Additionally\, Veterans and military personnel are paired with rescued companionship animals. For more information on Patriots and Paws\, please visit: https://www.patriotsandpaws.org/
X-ALT-DESC;FMTTYPE=text/html:The holidays are right around the corner and Tackle Box has a tasty way for you to give back this season. Starting this Veteran&rsquo\;s Day on Monday\, November 11 and running through Tuesday\, December 31\, the restaurant will donate 10% of each participating guest&rsquo\;s bill directly to nonprofit organization Patriots and Paws with a customer mention of the fundraiser. Tackle Box is excited to come together to give back to the local community and its heroes and welcomes all to join. Stop by OC&rsquo\;s favorite coastal pub any day of the week and be sure to mention this meaningful fundraiser to any Tackle Box employee to ensure your dining experience will help those in need. Patriots and Paws is a non-profit organization that provides veterans\, active military\, reservists and their families throughout Southern California basic home furnishings for newly acquired residence. Additionally\, Veterans and military personnel are paired with rescued companionship animals. For more information on Patriots and Paws\, please visit: https://www.patriotsandpaws.org/
LOCATION:3321 Hyland Ave Ste E Costa Mesa\, CA 92626
UID:e.2866.12177
SEQUENCE:3
DTSTAMP:20260423T033215Z
URL:https://www.costamesachamber.com/events/details/tackle-box-gives-back-to-america-s-heroes-this-season-12177
END:VEVENT

END:VCALENDAR
