BEGIN:VCALENDAR
VERSION:2.0
PRODID:-//ChamberMaster//Event Calendar 2.0//EN
METHOD:PUBLISH
X-PUBLISHED-TTL:P3D
REFRESH-INTERVAL:P3D
CALSCALE:GREGORIAN
BEGIN:VEVENT
DTSTART:20191024T220000Z
DTEND:20191028T030000Z
X-MICROSOFT-CDO-ALLDAYEVENT:FALSE
SUMMARY:Tasty Brews\, Halloween Festivities\, and Seasonal Celebrations at Tackle Box!
DESCRIPTION:Tackle Box   OC's favorite coastal pub   invites you to enjoy a weekend full of Halloween festivities\, tasty brews\, and discounts galore all weekend long beginning Thursday\, October 24 through Sunday\, October 27! The fun begins on Thursday\, 10/24 with a Nankansi Brewing Takeover from 3:00 p.m. to 9:00 p.m. where guests will enjoy 25% off all burgers with a purchase of any Ninkansi beer. Plus\, the Ninkansi team will hold a hat giveaway beginning at 5:00 p.m. with other various "spin the wheel" prizes available throughout the evening. The next day on Friday\, 10/25\, the fun continues with Tackle Box's Friday Night Flights! Cheers the end of your work week and enjoy quality times with friends & family with $5 flights of beer from 3:00 p.m. to 10:00 p.m. As an added bonus\, you'll receive a free appetizer with a food purchase at equal or lesser value. Then\, get into the Halloween spirit on Saturday\, 10/26 from 9:00 p.m. to 1:00 a.m. with a special Saturday Night DJ Halloween Party! While guest DJ's play festive tunes\, you'll celebrate the season with 50% off all Margaritas and Micheladas and/or select beers for $5. Be sure to come dressed in costume\, because whoever comes in the best costume will receive a spook-tacular prize. End the weekend on a high note by celebrating American Beer Day on Sunday\, October 27 with 50% off all beers on tap. Available ALL DAY long from 10:30 a.m. to 8:00 p.m.\, this celebration is truly one you won't want to miss. For more information on Tackle Box\, please visit http://tackleboxoc.com/
X-ALT-DESC;FMTTYPE=text/html:Tackle Box &ndash\; OC&rsquo\;s favorite coastal pub &ndash\; invites you to enjoy a weekend full of Halloween festivities\, tasty brews\, and discounts galore all weekend long beginning Thursday\, October 24 through Sunday\, October 27! The fun begins on Thursday\, 10/24 with a Nankansi Brewing Takeover from 3:00 p.m. to 9:00 p.m. where guests will enjoy 25% off all burgers with a purchase of any Ninkansi beer. Plus\, the Ninkansi team will hold a hat giveaway beginning at 5:00 p.m. with other various &ldquo\;spin the wheel&rdquo\; prizes available throughout the evening. The next day on Friday\, 10/25\, the fun continues with Tackle Box&rsquo\;s Friday Night Flights! Cheers the end of your work week and enjoy quality times with friends &amp\; family with $5 flights of beer from 3:00 p.m. to 10:00 p.m. As an added bonus\, you&rsquo\;ll receive a free appetizer with a food purchase at equal or lesser value. Then\, get into the Halloween spirit on Saturday\, 10/26 from 9:00 p.m. to 1:00 a.m. with a special Saturday Night DJ Halloween Party! While guest DJ&rsquo\;s play festive tunes\, you&rsquo\;ll celebrate the season with 50% off all Margaritas and Micheladas and/or select beers for $5. Be sure to come dressed in costume\, because whoever comes in the best costume will receive a spook-tacular prize. End the weekend on a high note by celebrating American Beer Day on Sunday\, October 27 with 50% off all beers on tap. Available ALL DAY long from 10:30 a.m. to 8:00 p.m.\, this celebration is truly one you won&rsquo\;t want to miss. For more information on Tackle Box\, please visit http://tackleboxoc.com/
LOCATION:Tackle Box 3321 Hyland Ave Ste E Costa Mesa\, CA 92626
UID:e.2866.11937
SEQUENCE:3
DTSTAMP:20260423T052405Z
URL:https://www.costamesachamber.com/events/details/tasty-brews-halloween-festivities-and-seasonal-celebrations-at-tackle-box-11937
END:VEVENT

END:VCALENDAR
