BEGIN:VCALENDAR
VERSION:2.0
PRODID:-//ChamberMaster//Event Calendar 2.0//EN
METHOD:PUBLISH
X-PUBLISHED-TTL:P3D
REFRESH-INTERVAL:P3D
CALSCALE:GREGORIAN
BEGIN:VEVENT
DTSTART:20191115T190000Z
DTEND:20191118T020000Z
X-MICROSOFT-CDO-ALLDAYEVENT:FALSE
SUMMARY:Test Drive a Lincoln Aviator at SOCO + The OC Mix!!
DESCRIPTION:Lincoln Motors welcomes you to experience the all-new 2020 Aviator at SOCO + The OC Mix. The Aviator is a sanctuary on the road that reimagines how you would move through the world. Every aspect of the Aviator is thoughtfully designed to tend to you\, leaving you feeling comfortable\, at ease and better able to rise above life's stresses. The Aviator will be on display and available for test drives beginning on Friday\, November 15 through Sunday\, November 17 at The OC Mix parking lot and invites you to come experience a new take on luxury. Plus enjoy complimentary goodies from Moulin including free croissants on Friday\, 11/15 and Sunday\, 11/17 and free coffee on Saturday\, 11/16. All test drivers must be licensed\, insured drivers 18 years of age or older to participate. For more information on the Lincoln Aviator visit: https://www.lincoln.com/luxury-suvs/aviator/
X-ALT-DESC;FMTTYPE=text/html:Lincoln Motors welcomes you to experience the all-new 2020 Aviator at SOCO + The OC Mix. The Aviator is a sanctuary on the road that reimagines how you would move through the world. Every aspect of the Aviator is thoughtfully designed to tend to you\, leaving you feeling comfortable\, at ease and better able to rise above life&rsquo\;s stresses. The Aviator will be on display and available for test drives beginning on Friday\, November 15 through Sunday\, November 17 at The OC Mix parking lot and invites you to come experience a new take on luxury. Plus enjoy complimentary goodies from Moulin including free croissants on Friday\, 11/15 and Sunday\, 11/17 and free coffee on Saturday\, 11/16. All test drivers must be licensed\, insured drivers 18 years of age or older to participate. For more information on the Lincoln Aviator visit: https://www.lincoln.com/luxury-suvs/aviator/
LOCATION:Parking lot of The OC Mix `3313 Hyland Ave Costa Mesa\, CA 92626
UID:e.2866.12187
SEQUENCE:3
DTSTAMP:20260423T050932Z
URL:https://www.costamesachamber.com/events/details/test-drive-a-lincoln-aviator-at-soco-the-oc-mix-12187
END:VEVENT

END:VCALENDAR
