BEGIN:VCALENDAR
VERSION:2.0
PRODID:-//ChamberMaster//Event Calendar 2.0//EN
METHOD:PUBLISH
X-PUBLISHED-TTL:P3D
REFRESH-INTERVAL:P3D
CALSCALE:GREGORIAN
BEGIN:VEVENT
DTSTART:20191128T190000Z
DTEND:20191129T040000Z
X-MICROSOFT-CDO-ALLDAYEVENT:FALSE
SUMMARY:Thanksgiving Dinner at Davio’s Irvine
DESCRIPTION:Celebrate Thanksgiving with loved ones at Davio's Irvine. On Thursday\, November 28th from 11:00am to 8:00pm\, guests are invited to enjoy a special Thanksgiving Day menu prepared by Executive Chef Istvan Toth. Guests will enjoy items such as Oven-Roasted Vermont Free-Range Organic Turkey\, Yukon Gold Creamy Potatoes\, Challah Bread Herb Stuffing. We all know Thanksgiving isn't complete without an All-American dessert. This year's options include Homemade Apple Pie\, Vanilla Ice Cream and Pumpkin Pie\, Whipped Cr me Fra che. The Davio's Thanksgiving Dinner menu is $65 per adult and $23 per child (12 years & under). Dinner menu is also available. Special Holiday Desserts are available for $12 each (excluding tax and gratuity). Reservations can be made by calling 949.477.4810. Thanksgiving Dinner Oven-Roasted Vermont Free-Range Organic Turkey Yukon Gold Creamy Potatoes Butternut Squash Glazed Carrots Green Beans Challah Bread Herb Stuffing Homemade Gravy Cranberry Apple Chutney $65* Special Holiday Desserts Homemade Apple Pie\, Vanilla Ice Cream Pumpkin Pie\, Whipped Cr me Fra che Pecan Tart\, Wild Turkey Anglaise\, Sweet Cream $12* Children Under 12 Oven Roasted Turkey\, Stuffing\, Creamy Potatoes\, Gravy $23*
X-ALT-DESC;FMTTYPE=text/html:Celebrate Thanksgiving with loved ones at Davio&#39\;s Irvine. On Thursday\, November 28th from 11:00am to 8:00pm\, guests are invited to enjoy a special Thanksgiving Day menu prepared by Executive Chef Istvan Toth. Guests will enjoy items such as Oven-Roasted Vermont Free-Range Organic Turkey\, Yukon Gold Creamy Potatoes\, Challah Bread Herb Stuffing. We all know Thanksgiving isn&rsquo\;t complete without an All-American dessert. This year&rsquo\;s options include Homemade Apple Pie\, Vanilla Ice Cream and Pumpkin Pie\, Whipped Cr&egrave\;me Fra&icirc\;che. The Davio&#39\;s Thanksgiving Dinner menu is $65 per adult and $23 per child (12 years &amp\; under). Dinner menu is also available. Special Holiday Desserts are available for $12 each (excluding tax and gratuity). Reservations can be made by calling 949.477.4810. Thanksgiving Dinner Oven-Roasted Vermont Free-Range Organic Turkey Yukon Gold Creamy Potatoes Butternut Squash Glazed Carrots Green Beans Challah Bread Herb Stuffing Homemade Gravy Cranberry Apple Chutney $65* Special Holiday Desserts Homemade Apple Pie\, Vanilla Ice Cream Pumpkin Pie\, Whipped Cr&egrave\;me Fra&icirc\;che Pecan Tart\, Wild Turkey Anglaise\, Sweet Cream $12* Children Under 12 Oven Roasted Turkey\, Stuffing\, Creamy Potatoes\, Gravy $23*
LOCATION:Davio's Northern Italian Steakhouse 18420 Von Karman Avenue Irvine\, CA 92612
UID:e.2866.12058
SEQUENCE:3
DTSTAMP:20260423T064033Z
URL:https://www.costamesachamber.com/events/details/thanksgiving-dinner-at-davio-s-irvine-12058
END:VEVENT

END:VCALENDAR
