BEGIN:VCALENDAR
VERSION:2.0
PRODID:-//ChamberMaster//Event Calendar 2.0//EN
METHOD:PUBLISH
X-PUBLISHED-TTL:P3D
REFRESH-INTERVAL:P3D
CALSCALE:GREGORIAN
BEGIN:VEVENT
DTSTART:20190711T000000Z
DTEND:20190902T040000Z
X-MICROSOFT-CDO-ALLDAYEVENT:FALSE
SUMMARY:The Generous Pour at The Capital Grille
DESCRIPTION:The Capital Grille's annual The Generous Pour wine event has returned for its eleventh year. This year's theme is Legends of the Land\, where guests can sip on any combination of seven select wines including the Maggy Hawk 2015 Pinot Noir\, the 2015 Cenyth Red Blend\, and the Arrowood 2013 Red Blend. Each is from California's Jackson Family that tell a unique story of origin and sustainability. From July 8th through September 1\, 2019\, guests are offered a customized wine tasting paired with the restaurant's classic menu items\, including hand-carved steaks and fresh seafood and appetizers with a flavorful twist for $28 per person with dinner.
X-ALT-DESC;FMTTYPE=text/html:The Capital Grille&rsquo\;s annual The Generous Pour wine event has returned for its eleventh year. This year&rsquo\;s theme is Legends of the Land\, where guests can sip on any combination of seven select wines including the Maggy Hawk 2015 Pinot Noir\, the 2015 Cenyth Red Blend\, and the Arrowood 2013 Red Blend. Each is from California&rsquo\;s Jackson Family that tell a unique story of origin and sustainability. From July 8th through September 1\, 2019\, guests are offered a customized wine tasting paired with the restaurant&rsquo\;s classic menu items\, including hand-carved steaks and fresh seafood and appetizers with a flavorful twist for $28 per person with dinner.
LOCATION:The Capital Grille 3333 Bristol St. Costa Mesa\, CA 92626
UID:e.2866.10839
SEQUENCE:3
DTSTAMP:20260423T065138Z
URL:https://www.costamesachamber.com/events/details/the-generous-pour-at-the-capital-grille-10839
END:VEVENT

END:VCALENDAR
