BEGIN:VCALENDAR
VERSION:2.0
PRODID:-//ChamberMaster//Event Calendar 2.0//EN
METHOD:PUBLISH
X-PUBLISHED-TTL:P3D
REFRESH-INTERVAL:P3D
CALSCALE:GREGORIAN
BEGIN:VEVENT
DTSTART:20191019T190000Z
DTEND:20191019T220000Z
X-MICROSOFT-CDO-ALLDAYEVENT:FALSE
SUMMARY:The LA Times The TASTE Costa Mesa 2019
DESCRIPTION:Travel Costa Mesa\, in partnership with the LA Times is bringing back The TASTE Costa Mesa for its second year. To focus on the thriving dining scene and award-winning restaurants in the heart of Southern California\, this culinary festival will feature Taco Mar a Chef Carlos Salgado\, one of just two Michelin-starred chefs in Orange County\;  award-winning Chef Ross Pangilinan and TERRACE by Mix Mix plus dozens of chefs and dishes from their restaurants to highlight Costa Mesa and Orange County's diverse dining scene. Admission to the event includes unlimited tastings and sips. Must be 21+.
X-ALT-DESC;FMTTYPE=text/html:Travel Costa Mesa\, in partnership with the LA Times is bringing back The TASTE Costa Mesa for its second year. To focus on the thriving dining scene and award-winning restaurants in the heart of Southern California\, this culinary festival will feature Taco Mar&iacute\;a Chef Carlos Salgado\, one of just two Michelin-starred chefs in Orange County\; &nbsp\;award-winning Chef Ross Pangilinan and TERRACE by Mix Mix plus dozens of chefs and dishes from their restaurants to highlight Costa Mesa and Orange County&#39\;s diverse dining scene. Admission to the event includes unlimited tastings and sips. Must be 21+.<br />\n<br />\n&nbsp\;
LOCATION:The MET - Costa Mesa 575 Anton Blvd. Costa Mesa\, CA 92626
UID:e.2866.11634
SEQUENCE:3
DTSTAMP:20260423T051749Z
URL:https://www.costamesachamber.com/events/details/the-la-times-the-taste-costa-mesa-2019-10-19-2019-11634
END:VEVENT

END:VCALENDAR
