BEGIN:VCALENDAR
VERSION:2.0
PRODID:-//ChamberMaster//Event Calendar 2.0//EN
METHOD:PUBLISH
X-PUBLISHED-TTL:P3D
REFRESH-INTERVAL:P3D
CALSCALE:GREGORIAN
BEGIN:VEVENT
DTSTART;VALUE=DATE:20221212
DTEND;VALUE=DATE:20221213
TRANSP:TRANSPARENT
X-MICROSOFT-CDO-ALLDAYEVENT:TRUE
SUMMARY:Tis the Season for Chicken Love
DESCRIPTION:This month\, each coop is partnering with their flock's favorite local organization to give back to the community. Here's how you eating all the eats and drinking all the drinks helps support local causes through all of December.\n\nCosta Mesa: For every "Harvest Old Fashioned" cocktail you sip\, Second Harvest Food Bank will donate three full meals to hungry local families.\n\n  Harvest Old Fashioned: Chicken Cock whiskey\, brown sugar simple syrup\, autumn bitters
X-ALT-DESC;FMTTYPE=text/html:<p>This month\, each coop is partnering with their flock&rsquo\;s favorite local organization to give back to the community. Here&rsquo\;s how you eating all the eats and drinking all the drinks helps support local causes through all of December.</p>\n\n<p>Costa Mesa:&nbsp\;For every &ldquo\;Harvest Old Fashioned&rdquo\; cocktail you sip\,&nbsp\;<a href="https://feedoc.org/" rel="noreferrer noopener" style="box-sizing: border-box\; background-color: transparent\; color: rgb(252\, 175\, 60)\; text-decoration-line: none\; display: inline-block\; position: relative\; padding-bottom: 3px\; cursor: pointer\;" target="_blank">Second Harvest Food Bank</a>&nbsp\;will donate three full meals to hungry local families.</p>\n\n<p>&ndash\;&nbsp\;<em>Harvest Old Fashioned: Chicken Cock whiskey\, brown sugar simple syrup\, autumn bitters</em></p>\n
LOCATION:The Crack Shack - Costa Mesa 196 E 17th St Costa Mesa\, CA 92627
UID:e.2866.13494
SEQUENCE:3
DTSTAMP:20260422T140227Z
URL:https://www.costamesachamber.com/events/details/tis-the-season-for-chicken-love-12-12-2022-13494
END:VEVENT

END:VCALENDAR
