BEGIN:VCALENDAR
VERSION:2.0
PRODID:-//ChamberMaster//Event Calendar 2.0//EN
METHOD:PUBLISH
X-PUBLISHED-TTL:P3D
REFRESH-INTERVAL:P3D
CALSCALE:GREGORIAN
BEGIN:VEVENT
DTSTART:20190901T150000Z
DTEND:20190929T210000Z
X-MICROSOFT-CDO-ALLDAYEVENT:FALSE
SUMMARY:Toast Kitchen + Bakery Donates September Proceeds to Trellis
DESCRIPTION:It is no secret that John Park\, Owner and Executive Chef of Toast Kitchen + Bakery\, is passionate about giving back to the community through his culinary talents. This September\, join Chef John Park in giving back to Trellis by dining at Toast Kitchen + Bakery in Costa Mesa. Trellis is an organization that exists to facilitate a collaborative approach to resolving the city's greatest challenges which include homelessness\, literacy\, and neighboring/cultural integration. Throughout the entire month of September\, 10% of all proceeds from Toast Kitchen + Bakery will benefit Trellis and its efforts to help to make an impact on Costa Mesa and its community. Guests are invited to dine at Costa Mesa's favorite modern diner during breakfast\, brunch\, lunch\, dinner\, and dessert and will feel happy knowing that enjoying a tasty meal is also making a difference in the lives of people around them. Stop by during normal business hours and please note that the restaurant is closed on Mondays. For more information on Toast Kitchen + Bakery\, please visit https://toastkitchenbakery.com and for more details on Trellis\, be sure to check out https://wearetrellis.com/
X-ALT-DESC;FMTTYPE=text/html:It is no secret that John Park\, Owner and Executive Chef of Toast Kitchen + Bakery\, is passionate about giving back to the community through his culinary talents. This September\, join Chef John Park in giving back to Trellis by dining at Toast Kitchen + Bakery in Costa Mesa. Trellis is an organization that exists to facilitate a collaborative approach to resolving the city&rsquo\;s greatest challenges which include homelessness\, literacy\, and neighboring/cultural integration. Throughout the entire month of September\, 10% of all proceeds from Toast Kitchen + Bakery will benefit Trellis and its efforts to help to make an impact on Costa Mesa and its community. Guests are invited to dine at Costa Mesa&rsquo\;s favorite modern diner during breakfast\, brunch\, lunch\, dinner\, and dessert and will feel happy knowing that enjoying a tasty meal is also making a difference in the lives of people around them. Stop by during normal business hours and please note that the restaurant is closed on Mondays. For more information on Toast Kitchen + Bakery\, please visit https://toastkitchenbakery.com and for more details on Trellis\, be sure to check out https://wearetrellis.com/
LOCATION:Toast Kitchen + Bakery 1767 Newport Blvd\, Costa Mesa\, CA 92627
UID:e.2866.11217
SEQUENCE:3
DTSTAMP:20260423T094339Z
URL:https://www.costamesachamber.com/events/details/toast-kitchen-bakery-donates-september-proceeds-to-trellis-11217
END:VEVENT

END:VCALENDAR
