BEGIN:VCALENDAR
VERSION:2.0
PRODID:-//ChamberMaster//Event Calendar 2.0//EN
METHOD:PUBLISH
X-PUBLISHED-TTL:P3D
REFRESH-INTERVAL:P3D
CALSCALE:GREGORIAN
BEGIN:VEVENT
DTSTART:20191016T150000Z
DTEND:20191017T040000Z
X-MICROSOFT-CDO-ALLDAYEVENT:FALSE
SUMMARY:Toast Kitchen + Bakery Offering Free Kids Meal23s all October Long
DESCRIPTION:Kids eat free at Toast Kitchen + Bakery! With the launch of its brand-new Kids Menu this October\, Toast wants to celebrate by allowing children to eat for free every Wednesday in October from 3:00 p.m. to 9:00 p.m. Children may choose from a specially curated menu of four tasty entr e options that all come with a side (fries or fruit)\, a drink (milk or lemonade) and a chocolate chip cookie to finish the meal. With four main course options available   cheeseburger\, grilled cheese\, spaghetti & meatballs\, and grilled PB&J   there is sure to be something that satisfies your kiddos taste buds and leaves no crumbs left on the plate. What each meal does have in common is that they all offer a delicious and nutritious meal to your little ones without costing parents a penny! Toast's new Kids Menu will be available year-round and costs $8/child. The Kids Menu is available daily from 3:00 p.m. to 9:00 p.m. For more information on Toast Kitchen + Bakery\, please visit: https://www.toastkitchenbakery.com
X-ALT-DESC;FMTTYPE=text/html:Kids eat free at Toast Kitchen + Bakery! With the launch of its brand-new Kids Menu this October\, Toast wants to celebrate by allowing children to eat for free every Wednesday in October from 3:00 p.m. to 9:00 p.m. Children may choose from a specially curated menu of four tasty entr&eacute\;e options that all come with a side (fries or fruit)\, a drink (milk or lemonade) and a chocolate chip cookie to finish the meal. With four main course options available &ndash\; cheeseburger\, grilled cheese\, spaghetti &amp\; meatballs\, and grilled PB&amp\;J &ndash\; there is sure to be something that satisfies your kiddos taste buds and leaves no crumbs left on the plate. What each meal does have in common is that they all offer a delicious and nutritious meal to your little ones without costing parents a penny! Toast&rsquo\;s new Kids Menu will be available year-round and costs $8/child. The Kids Menu is available daily from 3:00 p.m. to 9:00 p.m. For more information on Toast Kitchen + Bakery\, please visit: https://www.toastkitchenbakery.com
LOCATION:Toast Kitchen + Bakery 1767 Newport Blvd\, Costa Mesa\, CA 92627
UID:e.2866.11683
SEQUENCE:3
DTSTAMP:20260423T064641Z
URL:https://www.costamesachamber.com/events/details/toast-kitchen-bakery-offering-free-kids-meal23s-all-october-long-10-16-2019-11683
END:VEVENT

END:VCALENDAR
