BEGIN:VCALENDAR
VERSION:2.0
PRODID:-//ChamberMaster//Event Calendar 2.0//EN
METHOD:PUBLISH
X-PUBLISHED-TTL:P3D
REFRESH-INTERVAL:P3D
CALSCALE:GREGORIAN
BEGIN:VEVENT
DTSTART:20210127T200000Z
DTEND:20210127T210000Z
X-MICROSOFT-CDO-ALLDAYEVENT:FALSE
SUMMARY:Triangle Square Renovation: Signage Program
DESCRIPTION:Please Join Us for a Project Overview of the Triangle Square Renovation Plan for an Updated Signage Program discussing how the project will:\n\n \n\n\n	Revitalize Downtown Costa Mesa\n	Retain and Attract Valuable Tenants within Triangle Square\n	Create Revenues Benefiting the City of Costa Mesa\n	Provide New Advertising Opportunities for Local Costa Mesa Businesses on 3 Proposed LED Screens
X-ALT-DESC;FMTTYPE=text/html:<div style="font-size: 16px\; caret-color: rgb(46\, 47\, 47)\; color: rgb(46\, 47\, 47)\; font-family: Verdana\, Geneva\, sans-serif\; white-space: pre-wrap\;"><span style="font-size: 12px\; color: rgb(0\, 0\, 0)\; font-family: &quot\;Open Sans&quot\;\, sans-serif\;">Please Join Us for a Project Overview of the Triangle Square Renovation Plan for an Updated Signage Program discussing how the project will:</span></div>\n\n<div style="font-size: 16px\; caret-color: rgb(46\, 47\, 47)\; color: rgb(46\, 47\, 47)\; font-family: Verdana\, Geneva\, sans-serif\; white-space: pre-wrap\;"><span style="font-size: 12px\; color: rgb(0\, 0\, 0)\; font-family: &quot\;Open Sans&quot\;\, sans-serif\;">&#65279\;</span></div>\n\n<ul style="font-size: 16px\; padding-right: 0px\; padding-left: 0px\; margin: 0px 0px 0px 40px\; caret-color: rgb(46\, 47\, 47)\; color: rgb(46\, 47\, 47)\; font-family: Verdana\, Geneva\, sans-serif\; white-space: pre-wrap\;">\n	<li style="padding: 0px\; margin: 0px\; line-height: 1.2\; font-size: 12px\; color: rgb(0\, 0\, 0)\;"><span style="font-family: &quot\;Open Sans&quot\;\, sans-serif\;">Revitalize Downtown Costa Mesa</span></li>\n	<li style="padding: 0px\; margin: 0px\; line-height: 1.2\; font-size: 12px\; color: rgb(0\, 0\, 0)\;"><span style="font-family: &quot\;Open Sans&quot\;\, sans-serif\;">Retain and Attract Valuable Tenants within Triangle Square</span></li>\n	<li style="padding: 0px\; margin: 0px\; line-height: 1.2\; font-size: 12px\; color: rgb(0\, 0\, 0)\;"><span style="font-family: &quot\;Open Sans&quot\;\, sans-serif\;">Create Revenues Benefiting the City of Costa Mesa</span></li>\n	<li style="padding: 0px\; margin: 0px\; line-height: 1.2\; font-size: 12px\; color: rgb(0\, 0\, 0)\;"><span style="font-family: &quot\;Open Sans&quot\;\, sans-serif\;">Provide New Advertising Opportunities for Local Costa Mesa Businesses on 3 Proposed LED Screens</span></li>\n</ul>\n
LOCATION:Zoom
UID:e.2866.12726
SEQUENCE:3
DTSTAMP:20260422T031237Z
URL:https://www.costamesachamber.com/events/details/triangle-square-renovation-signage-program-12726
END:VEVENT

END:VCALENDAR
