BEGIN:VCALENDAR
VERSION:2.0
PRODID:-//ChamberMaster//Event Calendar 2.0//EN
METHOD:PUBLISH
X-PUBLISHED-TTL:P3D
REFRESH-INTERVAL:P3D
CALSCALE:GREGORIAN
BEGIN:VEVENT
DTSTART:20260227T030000Z
DTEND:20260227T050000Z
X-MICROSOFT-CDO-ALLDAYEVENT:FALSE
SUMMARY:Trivia at Deli Nerds
DESCRIPTION:Join us Thursdays for Trivia at Deli Nerds!\n\n\n\nHosted by Geeks Who Drink\, it's the perfect night to bring your trivia team and show off your knowledge.\n\nEvery Thursday | 7 PM   9 PM\n\nOn the Deli Nerds Patio   1525 Mesa Verde Dr E\, Costa Mesa\n\nPrizes for winners | Delicious food & drinks | Free parking\n\nCome for the trivia\, stay for the sliders!
X-ALT-DESC;FMTTYPE=text/html:<p><strong>Join us Thursdays for Trivia at Deli Nerds!</strong></p>\n\n<p><br />\nHosted by Geeks Who Drink\, it&#39\;s the perfect night to bring your trivia team and show off your knowledge.<br />\nEvery Thursday | 7 PM &ndash\; 9 PM<br />\nOn the Deli Nerds Patio &ndash\; 1525 Mesa Verde Dr E\, Costa Mesa<br />\nPrizes for winners | Delicious food &amp\; drinks | Free parking</p>\n\n<p>Come for the trivia\, stay for the sliders!</p>\n
LOCATION:1525 Mesa Verde Dr E # 117 Costa Mesa CA 92626
UID:e.2866.15348
SEQUENCE:3
DTSTAMP:20260419T213522Z
URL:https://www.costamesachamber.com/events/details/trivia-at-deli-nerds-02-26-2026-15348
END:VEVENT

END:VCALENDAR
