BEGIN:VCALENDAR
VERSION:2.0
PRODID:-//ChamberMaster//Event Calendar 2.0//EN
METHOD:PUBLISH
X-PUBLISHED-TTL:P3D
REFRESH-INTERVAL:P3D
CALSCALE:GREGORIAN
BEGIN:VEVENT
DTSTART;VALUE=DATE:20190913
DTEND;VALUE=DATE:20190923
TRANSP:TRANSPARENT
X-MICROSOFT-CDO-ALLDAYEVENT:TRUE
SUMMARY:VIP Sale Extra 30% off
DESCRIPTION:VIP Sale Extra 30% off. Including designers that rarely go on sale! Exclusions do apply
X-ALT-DESC;FMTTYPE=text/html:VIP Sale Extra 30% off. Including designers that rarely go on sale! Exclusions do apply
LOCATION:Come shop with the personal stylists at Macy's South Coast Plaza! We can assist you in all your shopping needs! You can call us at 714-556-0611x 4444 to make an appointment or shop with the Platinum Star team located on the first floor of the Main building at Macy's South Coast Plaza
UID:e.2866.11235
SEQUENCE:3
DTSTAMP:20260423T063910Z
URL:https://www.costamesachamber.com/events/details/vip-sale-extra-30-off-11235
END:VEVENT

END:VCALENDAR
