BEGIN:VCALENDAR
VERSION:2.0
PRODID:-//ChamberMaster//Event Calendar 2.0//EN
METHOD:PUBLISH
X-PUBLISHED-TTL:P3D
REFRESH-INTERVAL:P3D
CALSCALE:GREGORIAN
BEGIN:VEVENT
DTSTART:20170715T170000Z
DTEND:20170716T020000Z
X-MICROSOFT-CDO-ALLDAYEVENT:FALSE
SUMMARY:WAKE UP! SEE BEAUTY WITHIN
DESCRIPTION:JOIN ORIGINS & LINKRONICITY FREE Life Coaching Session with any $45 purchase of Origins Wake up and get an energizing Ginzing  boost for a beautiful life-affirming LINK to your inner beauty. Stacey Kumagai is a life reinvention and transformational thought leader coach with Linkronicity.com providing a 30-minute introductory session to help you with your Checks & Balances  of LIFE. Drink Up  Intensive Mega-Bright information to create A Perfect World  for your personal\, career or spiritual connection. Get Out Of Trouble  spots as she provides insight to your life's roadblocks of Modern Friction . As a communications specialist for thirty years\, merging neuroscience\, metaphysics\, holistic health naturopath Eastern & Western wellness therapies\, and lightworker empath abilities\, she empowers you to bridge communications between your cell system\, heart\, mind\, beauty\, and soul lifestyle goals\, LINKING you to your own personalized communications map. Her mission is to improve human soul connection relations to one's true self and internal inspiration to create bridges for spirit health and soul well-being. * Receive a FREE Origins Special Gift * Enjoy coffee graciously provided by Starbucks Coffee * BONUS drawing to win a 1-hr. $175 Linkronicity session PLEASE CALL TO SCHEDULE YOUR APPOINTMENT (714)-957-8800 3333 BRISTOL STREET #2017 * COSTA MESA\, CA 92626
X-ALT-DESC;FMTTYPE=text/html:JOIN ORIGINS &amp\; LINKRONICITY FREE Life Coaching Session with any $45 purchase of Origins Wake up and get an energizing Ginzing&trade\; boost for a beautiful life-affirming LINK to your inner beauty. Stacey Kumagai is a life reinvention and transformational thought leader coach with Linkronicity.com providing a 30-minute introductory session to help you with your Checks &amp\; Balances&trade\; of LIFE. Drink Up&trade\; Intensive Mega-Bright information to create A Perfect World&trade\; for your personal\, career or spiritual connection. Get Out Of Trouble&trade\; spots as she provides insight to your life&rsquo\;s roadblocks of Modern Friction&trade\;. As a communications specialist for thirty years\, merging neuroscience\, metaphysics\, holistic health naturopath Eastern &amp\; Western wellness therapies\, and lightworker empath abilities\, she empowers you to bridge communications between your cell system\, heart\, mind\, beauty\, and soul lifestyle goals\, LINKING you to your own personalized communications map. Her mission is to improve human soul connection relations to one&rsquo\;s true self and internal inspiration to create bridges for spirit health and soul well-being. * Receive a FREE Origins Special Gift * Enjoy coffee graciously provided by Starbucks Coffee * BONUS drawing to win a 1-hr. $175 Linkronicity session PLEASE CALL TO SCHEDULE YOUR APPOINTMENT (714)-957-8800 3333 BRISTOL STREET #2017 * COSTA MESA\, CA 92626
LOCATION:ORIGINS SOUTH COAST PLAZA 3333 BRISTOL STREET #2017 COSTA MESA\, CA 92626
UID:e.2866.737
SEQUENCE:3
DTSTAMP:20260425T003333Z
URL:https://www.costamesachamber.com/events/details/wake-up-see-beauty-within-737
END:VEVENT

END:VCALENDAR
