BEGIN:VCALENDAR
VERSION:2.0
PRODID:-//ChamberMaster//Event Calendar 2.0//EN
METHOD:PUBLISH
X-PUBLISHED-TTL:P3D
REFRESH-INTERVAL:P3D
CALSCALE:GREGORIAN
BEGIN:VEVENT
DTSTART:20260107T170000Z
DTEND:20260107T180000Z
X-MICROSOFT-CDO-ALLDAYEVENT:FALSE
SUMMARY:Webinar: Six Steps to Create a Personal Budget
DESCRIPTION:Join SDCCU for an informative online session on the basics to create your own personal budget. This session will walk you through the six basic steps of setting goals\, tracking income and expenses\, the 50/20/30 rule\, how to cut expenses\, get organized and then visualize success.
X-ALT-DESC;FMTTYPE=text/html:<div>&nbsp\;</div>\n\n<div><span style="background-color:rgb(255\, 255\, 255)\; color:rgb(35\, 35\, 51)\; font-family:helvetica neue\,helvetica\,arial\,sans-serif\; font-size:14px">Join SDCCU for an informative online session on the basics to create your own personal budget. This session will walk you through the six basic steps of setting goals\, tracking income and expenses\, the 50/20/30 rule\, how to cut expenses\, get organized and then visualize success.</span></div>\n
LOCATION:Zoom webinar: https://sdccu.zoom.us/webinar/register/WN_cv3LCDVMRy2CLHSZXprs6g#/registration
UID:e.2866.16018
SEQUENCE:3
DTSTAMP:20260419T213212Z
URL:https://www.costamesachamber.com/events/details/webinar-six-steps-to-create-a-personal-budget-16018
END:VEVENT

END:VCALENDAR
