BEGIN:VCALENDAR
VERSION:2.0
PRODID:-//ChamberMaster//Event Calendar 2.0//EN
METHOD:PUBLISH
X-PUBLISHED-TTL:P3D
REFRESH-INTERVAL:P3D
CALSCALE:GREGORIAN
BEGIN:VEVENT
DTSTART:20200229T033000Z
DTEND:20200229T060000Z
X-MICROSOFT-CDO-ALLDAYEVENT:FALSE
SUMMARY:West Side Story
DESCRIPTION:One of the most beloved musicals ever\, West Side Story takes Shakespeare's most famous romantic drama\, Romeo and Juliet\, and transports it to modern-day New York City as two young\, idealistic lovers find themselves caught between warring street gangs\, the "American" Jets and the Puerto Rican Sharks. Their struggle to survive in a world of hate\, violence and prejudice is one of the most innovative\, heart-wrenching and relevant musical dramas of our time. The famed 1961 film adaptation won 10 Academy Awards\, including Best Picture\, and the Broadway version has become a true American classic.
X-ALT-DESC;FMTTYPE=text/html:<span style="background-color:rgb(253\, 252\, 254)\; color:rgb(153\, 153\, 153)\; font-family:muli\; font-size:16px">One of the most beloved musicals ever\, West Side Story takes Shakespeare&#39\;s most famous romantic drama\, Romeo and Juliet\, and transports it to modern-day New York City as two young\, idealistic lovers find themselves caught between warring street gangs\, the &quot\;American&quot\; Jets and the Puerto Rican Sharks. Their struggle to survive in a world of hate\, violence and prejudice is one of the most innovative\, heart-wrenching and relevant musical dramas of our time. The famed 1961 film adaptation won 10 Academy Awards\, including Best Picture\, and the Broadway version has become a true American classic.</span>
LOCATION:Lyceum Theater Costa Mesa 55 Fair Drive Costa Mesa\, CA 92626
UID:e.2866.12257
SEQUENCE:3
DTSTAMP:20260422T223130Z
URL:https://www.costamesachamber.com/events/details/west-side-story-02-28-2020-12257
END:VEVENT

END:VCALENDAR
